BEGIN:VCALENDAR
VERSION:2.0
PRODID:-//Gun Craft - ECPv6.15.1.1//NONSGML v1.0//EN
CALSCALE:GREGORIAN
METHOD:PUBLISH
X-WR-CALNAME:Gun Craft
X-ORIGINAL-URL:https://guncraftinc.com
X-WR-CALDESC:Events for Gun Craft
REFRESH-INTERVAL;VALUE=DURATION:PT1H
X-Robots-Tag:noindex
X-PUBLISHED-TTL:PT1H
BEGIN:VTIMEZONE
TZID:UTC
BEGIN:STANDARD
TZOFFSETFROM:+0000
TZOFFSETTO:+0000
TZNAME:UTC
DTSTART:20250101T000000
END:STANDARD
END:VTIMEZONE
BEGIN:VEVENT
DTSTART;TZID=UTC:20251101T093000
DTEND;TZID=UTC:20251101T120000
DTSTAMP:20260424T002349
CREATED:20250815T141646Z
LAST-MODIFIED:20250815T141646Z
UID:3578-1761989400-1761998400@guncraftinc.com
SUMMARY:Morning Defensive Pistol Workout with Wes Senn
DESCRIPTION:Morning Defensive Pistol Workout\nThese two-hour sessions provide an opportunity to keep your defensive pistol skills sharp. If you carry a gun as part of your normal daily routine\, these drill sessions are for you. Every drill is shot from concealment\, using your everyday carry gear on a dynamic range.\n•	Each session is comprised of very specific pistol drills\, focusing on a particular skill\n•	A new skill is presented and practiced each month\n•	Sessions have a round count of 50 or less\, so you get maximum training without excessive ammo expenditure.\n•	Some examples of topics covered are:\no	Multiple threat scenarios\no	Shooting from cover\no	Strong-hand only and weak-hand only shooting\no	Shooting and moving\no	Close contact shooting \nThis training is reserved for the Intermediate Level shooter. THIS IS NOT A BEGINNER’S COURSE. You must be able to run your gun safely and efficiently without assistance.\nPrerequisite skills required:\nA very high level of safe gun handling\, loading\, unloading\, clearing malfunctions\, and drawing safely from concealment.  \nPrice: $80 per session (Includes your range fee and targets)\nSafety Brief starts promptly at 9:45 am\nNo walk-ins\, reservations are required to attend\nVisit www.ballistic-consulting.com for registration RSVP
URL:https://guncraftinc.com/event/morning-defensive-pistol-workout-with-wes-senn-6/
END:VEVENT
BEGIN:VEVENT
DTSTART;TZID=UTC:20251102T083000
DTEND;TZID=UTC:20251102T130000
DTSTAMP:20260424T002349
CREATED:20240424T145732Z
LAST-MODIFIED:20240424T145732Z
UID:2747-1762072200-1762088400@guncraftinc.com
SUMMARY:USPSA Match
DESCRIPTION:USPSA is an exciting sport that combines speed and accuracy – while placing you in a class with others based upon your choice of gun and skill level. \nCome out and watch – sign up and shoot – or talk to someone about getting lessons in the sport. \nUSPSA is shot on the first and third Sunday of the Month. Shooting starts about 9AM and wraps up around 1:00PM.  \nFollow them on Facebook –  GunCraft Practical Shooters – Private Message with any questions and one of the directors of the match will respond as soon as possible. \nSignup is on practiscore.com – click on Matches – click on Florida – and select the match date you would like to attend.
URL:https://guncraftinc.com/event/uspsa-match-39/
END:VEVENT
BEGIN:VEVENT
DTSTART;TZID=UTC:20251108T130000
DTEND;TZID=UTC:20251108T160000
DTSTAMP:20260424T002349
CREATED:20241101T165737Z
LAST-MODIFIED:20250723T135327Z
UID:3130-1762606800-1762617600@guncraftinc.com
SUMMARY:Constitutional Carry/Concealed Weapon License Class
DESCRIPTION:DATE: Saturday November 8\, 2025\nTIME:   1PM – 4PM\nCOST: $60*\nTO REGISTER: Call or email Gun Craft at 813-645-3828 or guncraftinc@live.com\n→ Click HERE to follow us on Facebook ← \n→ Click HERE to follow us on Instagram ← \n*A 50% deposit is required to register for this class. This deposit is non-refundable\, but is transferable to other class offerings if the student needs to cancel. \nDESCRIPTION:\nThis class is designed for those with firearms experience\, or new shooters\, who are looking to apply for their Florida Concealed Weapon License. This class is designed to cover all requirements in Florida Statue 790.06 to allow you to apply for your Florida Concealed Weapon License. There will be approximately 2 hours of class time and up to 1 hour of range time. \nNote: Constitutional Carry does require the same knowledge of the laws and safety\, which this class offers. \nIN THIS CLASS WE WILL COVER: \n\nBasic firearms safety\nMechanics of semi-automatic handguns and revolvers\nHow to safely load and unload firearms\nClearing common malfunctions and stoppages\nShooting fundamentals\nFlorida Gun Laws\nWhere you can and cannot carry\n\nWe provide the firearm and ammunition for this class. You do not need to bring a firearm or ammunition. \nALL STUDENTS WILL NEED: Eye and ear protection during the shooting portion; eye and ear protection are available for purchase at the range if needed. \nWe have bottled water and soda available for purchase at the range\, or you are welcome to bring your own to the class. \nPlease wear range appropriate attire. This includes closed-toed shoes\, shirt to the base of the neck (no low-cut or short-cut shirts)\, shorts or long pants.
URL:https://guncraftinc.com/event/constitutional-carry-concealed-weapon-license-class-50/
LOCATION:Gun Craft\, 2102 24th St. S.E.\, Ruskin\, FL\, 33570\, United States
END:VEVENT
BEGIN:VEVENT
DTSTART;TZID=UTC:20251108T130000
DTEND;TZID=UTC:20251108T170000
DTSTAMP:20260424T002349
CREATED:20250621T150338Z
LAST-MODIFIED:20250621T150338Z
UID:3332-1762606800-1762621200@guncraftinc.com
SUMMARY:Armed Citizen - Advanced Course with Wes Senn
DESCRIPTION:Armed Citizen – Advanced Course\nThis four-hour course will introduce the student to advanced concepts of defensive pistol use. Topics covered include:\nContact Distance Shooting\nUse of Cover\nOne Hand Manipulations\nReloading Techniques\nMultiple Threat Scenarios\nThis course is also a good intro for competition shooting.  \nThis training is reserved for the Intermediate Level shooter. THIS IS NOT A BEGINNER’S COURSE. You must be able to run your gun safely and efficiently without assistance.\nPrerequisite skills required:\nA very high level of safe gun handling\, loading\, unloading\, clearing malfunctions\, and drawing safely from concealment.  \nPrice: $150 (Tuition cost is due upon registration to reserve your spot)\nSafety Brief starts promptly at 12:45 pm\nNo walk-ins\, reservations are required to attend\nVisit website to register via the RSVP button  www.ballistic-consulting.com
URL:https://guncraftinc.com/event/armed-citizen-advanced-course-with-wes-senn/
END:VEVENT
BEGIN:VEVENT
DTSTART;TZID=UTC:20251109T083000
DTEND;TZID=UTC:20251109T130000
DTSTAMP:20260424T002349
CREATED:20240425T145148Z
LAST-MODIFIED:20240425T145148Z
UID:2794-1762677000-1762693200@guncraftinc.com
SUMMARY:Tampa Bay Steel Challenge
DESCRIPTION:Steel Challenge is a stationary speed shoot in which you can use anything from a .22 caliper gun and up. \nIf you like to compete\, but feel uncomfortable running while doing so\, this just might be the ticket for you. \nCheck out our other postings for this sport – Sunday is the match but during the second and forth week of each month we host a practice shoot as well – a great way to try it out.  \nCome see what it is all about – this is low impact on the body and the wallet as well (22LR being the reasonable choice). \nShooting begins about 9AM and continues until about 1PM. \nSign up on practiscore.com – Click on Matches – Click on Florida – and scroll down and select the match (Tampa Bay Steel Challenge)  \nCome out and watch – come out and shoot – talk to the Directors about what it takes to participate in this really fun sport.
URL:https://guncraftinc.com/event/tampa-bay-steel-challenge-19/
END:VEVENT
BEGIN:VEVENT
DTSTART;TZID=UTC:20251111T083000
DTEND;TZID=UTC:20251111T173000
DTSTAMP:20260424T002349
CREATED:20250611T191737Z
LAST-MODIFIED:20250611T191737Z
UID:3323-1762849800-1762882200@guncraftinc.com
SUMMARY:Spend Veterans Day on the Range - Open Regular Hours!!!!
DESCRIPTION:
URL:https://guncraftinc.com/event/spend-veterans-day-on-the-range-open-regular-hours/
END:VEVENT
BEGIN:VEVENT
DTSTART;TZID=UTC:20251112T173000
DTEND;TZID=UTC:20251112T200000
DTSTAMP:20260424T002349
CREATED:20240425T185115Z
LAST-MODIFIED:20240425T185115Z
UID:2866-1762968600-1762977600@guncraftinc.com
SUMMARY:Tampa Bay Steel Challenge Practice Match
DESCRIPTION:Steel Challenge is a stationary speed shoot in which you can use anything from a .22 caliper gun and up. \nIf you like to compete\, but feel uncomfortable running while doing so\, this just might be the ticket for you. \nCheck out our other postings for this sport – Sunday is the match but during the second and forth week of each month we host a practice shoot as well – a great way to try it out. \nCome see what it is all about – this is low impact on the body and the wallet as well (22LR being the reasonable choice). \nShooting begins about 6PM and continues until about 8PM. \nSign up on practiscore.com – Click on Matches – Click on Florida – and scroll down and select the match (Tampa Bay Steel Challenge) \nCome out and watch – come out and shoot – talk to the Directors about what it takes to participate in this really fun sport.
URL:https://guncraftinc.com/event/tampa-bay-steel-challenge-practice-match-35/
END:VEVENT
BEGIN:VEVENT
DTSTART;TZID=UTC:20251115T083000
DTEND;TZID=UTC:20251115T143000
DTSTAMP:20260424T002349
CREATED:20250523T190245Z
LAST-MODIFIED:20251023T134251Z
UID:3308-1763195400-1763217000@guncraftinc.com
SUMMARY:TACFIT with Defcon - CANCELLED
DESCRIPTION:What is TACFIT? \nAt its core\, TACFIT (Tactical Fitness) challenges athletes with a blend of physical fitness and shooting skills. Each stage involves strenuous activity combined with precision shooting. Whether you’re a public servant\, a competitive athlete\, or someone looking to test their endurance\, TACFIT provides an exciting and demanding platform to asses your abilities. \nExpect challenging workouts that will push you to your limits\, all in a supportive and motivating group environment. \nKey Components: \nEndurance: Participants face physically demanding scenarios that simulate real-world challenges. From pushing sleds to carrying heavy loads\, endurance plays a crucial role. \nMarksmanship: Accurate shooting under pressure is essential. Athletes engage targets while enduring physical stress\, adding an extra layer of complexity. \nStrength: TACFIT requires functional strength. Athletes must carry gear\, climb\, crawl\, and perform other physically demanding tasks. \nElite Competition Preparation: Elevate your physical prowess and marksmanship abilities for top-tier events like The Tactical Games\, The Patriot Games\, The Proving Grounds\, Green Beret Fitness challenges\, and a host of others. Master the game\, refine your techniques\, and seize victory from the competition. \nTailored for All: Whether you’re a novice or a seasoned competitor\, we cater to diverse fitness levels and aspirations. Recognizing individual differences\, we prioritize enjoyment; if a workout feels overwhelming or weights seem daunting\, don’t fret—tune into your body’s cues and adapt accordingly. \nAdditional information 239-851-2924 or email Jeremy@a-zshooting.com
URL:https://guncraftinc.com/event/tacfit-with-defcon-3/
END:VEVENT
BEGIN:VEVENT
DTSTART;TZID=UTC:20251115T090000
DTEND;TZID=UTC:20251115T170000
DTSTAMP:20260424T002349
CREATED:20251001T164710Z
LAST-MODIFIED:20251001T164710Z
UID:3610-1763197200-1763226000@guncraftinc.com
SUMMARY:NRA Defensive Pistol with Nelson Betancourt
DESCRIPTION:NRA Defensive Pistol\nDate: Friday – Nov 08\, 2025\nTime: 9 AM thru 5 PM\nTuition: $120\nEnjoy a relaxed and safe learning environment. This course teaches the basic knowledge\, skills\, and attitude for owning\, using\, and carrying a concealed pistol safely. Subjects covered: Firearm Safety\, Marksmanship\, Reloads\, Drawing from Concealment\, Engaging Multiple Target\, Malfunctions\, Storage\, and more.  Classroom and live fire range sessions.\nStudents receive a Personal Protection Outside the Home handbook\, NRA/MQP booklet\, and a Safety Card. Upon successful completion\, the student will receive a course completion certificate\, which satisfies the training requirement for the Florida Conceal Carry License application (FL §790.06(2)(h)).\nRequired gear: your handgun (Sig Sauer P320 is not allowed)\, (caliber: 22LR ~ 45ACP)\, min 300 rounds\, 2 mags for semi-autos\, good holster\, mag holder\, eye/ear protection\, cover garment\, pen/notepad\, lunch. Some gear restrictions apply. Appropriate clothing and footwear: (no tank tops\, low cuts\, no sandals\, etc.)\n* Students pay the $30 range fee  directly to the range personnel.\nText or email with any related questions or to register.      * Courses available in Spanish  *   \nNelson Betancourt:  nelbet.is@gmail.com   * * *   703.509.1925\nNRA Certified: Training Counselor / Instructor – Pistol\, Rifle\, Shotgun\, CCW\, Def Pistol\nNRA Certified: Chief Range Safety Officer\nRangemaster Certified Advanced Firearms Instructor
URL:https://guncraftinc.com/event/nra-defensive-pistol-with-nelson-betancourt/
END:VEVENT
BEGIN:VEVENT
DTSTART;TZID=UTC:20251116T083000
DTEND;TZID=UTC:20251116T130000
DTSTAMP:20260424T002349
CREATED:20240424T145800Z
LAST-MODIFIED:20240424T145800Z
UID:2749-1763281800-1763298000@guncraftinc.com
SUMMARY:USPSA Match
DESCRIPTION:USPSA is an exciting sport that combines speed and accuracy – while placing you in a class with others based upon your choice of gun and skill level. \nCome out and watch – sign up and shoot – or talk to someone about getting lessons in the sport. \nUSPSA is shot on the first and third Sunday of the Month. Shooting starts about 9AM and wraps up around 1:00PM.  \nFollow them on Facebook –  GunCraft Practical Shooters – Private Message with any questions and one of the directors of the match will respond as soon as possible. \nSignup is on practiscore.com – click on Matches – click on Florida – and select the match date you would like to attend.
URL:https://guncraftinc.com/event/uspsa-match-40/
END:VEVENT
BEGIN:VEVENT
DTSTART;TZID=UTC:20251117T083000
DTEND;TZID=UTC:20251117T170000
DTSTAMP:20260424T002349
CREATED:20250918T181731Z
LAST-MODIFIED:20250918T181731Z
UID:3606-1763368200-1763398800@guncraftinc.com
SUMMARY:Defining Success with Joey Sauerland
DESCRIPTION:DEFINING SUCCESS with Joey Sauerland \nOne-Day course for competition pistol shooters \nUSPSA Grandmaster and Multi-Division National Champion Joey Sauerland is bringing the cream of his own training methods and ideologies to share in an efficient one-day course. \nThe course will include: \n-Mindset\, in training and competition \n-Dry fire training\, the real difference maker \n-Essentials of live fire\, how should I spend my limited ammo? \n-Shot Calling\, the MOST important skill in practical pistol shooting \n-Movement training\, how to do it and actually improve \nand more… \n(One day class covering both live and dry fire training techniques for rapid improvement and most efficient use of training time. We will cover grip and recoil management\, shooting for accuracy\, shot calling\, transitions\, vision\, reducing stage times by training movement speed\, movement quality\, and movement efficiency. This will not simply be learning new drills\, but showing you how to develop new movement skills\, AND developing new drills for yourself to infinity. A small physical fitness component will also be included\, intended for all levels. \n $375.00 \nCancellation policy: You may cancel and retain a “class credit” to be used on a future class\, or find someone to take your place (sell your spot to someone else). Please understand that I’m only able to host a class with all travel expenses covered as well as some income.) \nSauerlandcoaching.com for booking
URL:https://guncraftinc.com/event/defining-success-with-joey-sauerland/
END:VEVENT
BEGIN:VEVENT
DTSTART;TZID=UTC:20251122T130000
DTEND;TZID=UTC:20251122T160000
DTSTAMP:20260424T002349
CREATED:20241101T165911Z
LAST-MODIFIED:20250723T135436Z
UID:3132-1763816400-1763827200@guncraftinc.com
SUMMARY:Constitutional Carry/Concealed Weapon License Class
DESCRIPTION:DATE: Saturday November 22\, 2025\nTIME:   1PM – 4PM\nCOST: $60*\nTO REGISTER: Call or email Gun Craft at 813-645-3828 or guncraftinc@live.com\n→ Click HERE to follow us on Facebook ← \n→ Click HERE to follow us on Instagram ← \n*A 50% deposit is required to register for this class. This deposit is non-refundable\, but is transferable to other class offerings if the student needs to cancel. \nDESCRIPTION:\nThis class is designed for those with firearms experience\, or new shooters\, who are looking to apply for their Florida Concealed Weapon License. This class is designed to cover all requirements in Florida Statue 790.06 to allow you to apply for your Florida Concealed Weapon License. There will be approximately 2 hours of class time and up to 1 hour of range time. \nNote: Constitutional Carry does require the same knowledge of the laws and safety\, which this class offers. \nIN THIS CLASS WE WILL COVER: \n\nBasic firearms safety\nMechanics of semi-automatic handguns and revolvers\nHow to safely load and unload firearms\nClearing common malfunctions and stoppages\nShooting fundamentals\nFlorida Gun Laws\nWhere you can and cannot carry\n\nWe provide the firearm and ammunition for this class. You do not need to bring a firearm or ammunition. \nALL STUDENTS WILL NEED: Eye and ear protection during the shooting portion; eye and ear protection are available for purchase at the range if needed. \nWe have bottled water and soda available for purchase at the range\, or you are welcome to bring your own to the class. \nPlease wear range appropriate attire. This includes closed-toed shoes\, shirt to the base of the neck (no low-cut or short-cut shirts)\, shorts or long pants.
URL:https://guncraftinc.com/event/constitutional-carry-concealed-weapon-license-class-51/
LOCATION:Gun Craft\, 2102 24th St. S.E.\, Ruskin\, FL\, 33570\, United States
END:VEVENT
BEGIN:VEVENT
DTSTART;TZID=UTC:20251122T170000
DTEND;TZID=UTC:20251122T190000
DTSTAMP:20260424T002349
CREATED:20241213T173636Z
LAST-MODIFIED:20250122T141500Z
UID:3177-1763830800-1763838000@guncraftinc.com
SUMMARY:Monthly Defensive Pistol Drills with Wesley Senn
DESCRIPTION:Monthly Defensive Pistol Drills \nThese two-hour sessions provide an opportunity to keep your defensive pistol skills sharp. If you carry a gun as part of your normal daily routine\, these drill sessions are for you. Every drill is shot from concealment\, using your everyday carry gear on a dynamic range. \n\nEach session is comprised of very specific pistol drills\, focusing on a particular skill\nA new skill is presented and practiced each month\nSessions have a round count of 50 or less\, so you get maximum training without excessive ammo expenditure.\nSome examples of topics covered are:\n\nMultiple threat scenarios\nShooting at increased speed\nHome defense skills\nShooting from cover\nStrong-hand only and weak-hand only shooting\nShooting and moving\n\n\n\n  \nThis training is reserved for the Intermediate Level shooter. THIS IS NOT A BEGINNER’S COURSE. You must be able to run your gun safely and efficiently without assistance. \nPrerequisite skills required: \nA very high level of safe gun handling\, loading\, unloading\, clearing malfunctions\, and drawing safely from concealment. \n  \nPrice: $80 per session (Includes your range fee and targets) \nSafety Brief starts promptly at 5pm \nNo walk-ins\, reservations are required to attend \nContact Wes at ballisticdynamics@yahoo.com for reservations
URL:https://guncraftinc.com/event/monthly-defensive-pistol-drills-with-wesley-senn-31/
END:VEVENT
BEGIN:VEVENT
DTSTART;TZID=UTC:20251123T083000
DTEND;TZID=UTC:20251123T130000
DTSTAMP:20260424T002349
CREATED:20240430T135656Z
LAST-MODIFIED:20240430T135656Z
UID:2912-1763886600-1763902800@guncraftinc.com
SUMMARY:Doodle Hill Regulators - Cowboy Action Shooting
DESCRIPTION:Cowboy Action Shooting  \nStep into the past and enjoy watching or shooting this sport. Fanning a revolver\, shooting lever action firearms – all while dressed era appropriately.  \nThese matches are part of SASS (Single Action Shooting Society). \nRuskin was known as Doodle Hill\, back in the day and these shooters try to honor those roots. \n(Note – due to the Florida heat\, these shoots are from September – April of each year) \nLearn more at:- https://actionshootingnetwork.com
URL:https://guncraftinc.com/event/doodle-hill-regulators-cowboy-action-shooting-11/
END:VEVENT
BEGIN:VEVENT
DTSTART;TZID=UTC:20251125T080000
DTEND;TZID=UTC:20251128T170000
DTSTAMP:20260424T002349
CREATED:20251002T133026Z
LAST-MODIFIED:20251002T133026Z
UID:3612-1764057600-1764349200@guncraftinc.com
SUMMARY:Closed Thanksgiving Week
DESCRIPTION:We will be closed at the end of the day\, Saturday the 22n\, and will reopen on Saturday the 29th of November. \nWishing all a wonderful week and looking forward to seeing you when we return.
URL:https://guncraftinc.com/event/closed-thanksgiving-week/
END:VEVENT
BEGIN:VEVENT
DTSTART;TZID=UTC:20251126T173000
DTEND;TZID=UTC:20251126T200000
DTSTAMP:20260424T002349
CREATED:20240425T185145Z
LAST-MODIFIED:20240425T185145Z
UID:2868-1764178200-1764187200@guncraftinc.com
SUMMARY:Tampa Bay Steel Challenge Practice Match
DESCRIPTION:Steel Challenge is a stationary speed shoot in which you can use anything from a .22 caliper gun and up. \nIf you like to compete\, but feel uncomfortable running while doing so\, this just might be the ticket for you. \nCheck out our other postings for this sport – Sunday is the match but during the second and forth week of each month we host a practice shoot as well – a great way to try it out. \nCome see what it is all about – this is low impact on the body and the wallet as well (22LR being the reasonable choice). \nShooting begins about 6PM and continues until about 8PM. \nSign up on practiscore.com – Click on Matches – Click on Florida – and scroll down and select the match (Tampa Bay Steel Challenge) \nCome out and watch – come out and shoot – talk to the Directors about what it takes to participate in this really fun sport.
URL:https://guncraftinc.com/event/tampa-bay-steel-challenge-practice-match-36/
END:VEVENT
BEGIN:VEVENT
DTSTART;TZID=UTC:20251129T083000
DTEND;TZID=UTC:20251129T143000
DTSTAMP:20260424T002349
CREATED:20251031T182847Z
LAST-MODIFIED:20251031T182847Z
UID:3652-1764405000-1764426600@guncraftinc.com
SUMMARY:DEFCON Gun Club
DESCRIPTION:DEFCON Gun Club TACFIT \nAt its core\, TACFIT (Tactical Fitness) challenges athletes with a blend of physical fitness and shooting skills. Each stage involves strenuous activity combined with precision shooting. Whether you’re a public servant\, a competitive athlete\, or someone looking to test their endurance\, TACFIT provides an exciting and demanding platform to assess your abilities. \nExpect challenging workouts that will push you to your limits\, all in a supportive and motivating group environment. \nKey Components: \nEndurance: Participants face physically demanding scenarios that simulate real-world challenges. From pushing sleds to carrying heavy loads\, endurance plays a crucial role. \nMarksmanship: Accurate shooting under pressure is essential. Athletes engage targets while enduring physical stress\, adding an extra layer of complexity. \nStrength: TACFIT requires functional strength. Athletes must carry gear\, climb\, crawl\, and perform other physically demanding tasks. \nElite Competition Preparation: Elevate your physical prowess and marksmanship abilities for top-tier events like The Tactical Games\, The Patriot Games\, The Proving Grounds\, Green Beret Fitness challenges\, and a host of others. Master the game\, refine your techniques\, and seize victory from the competition. \nTailored for All: Whether you’re a novice or a seasoned competitor\, we cater to diverse fitness levels and aspirations. Recognizing individual differences\, we prioritize enjoyment; if a workout feels overwhelming or weights seem daunting\, don’t fret—tune into your body’s cues and adapt accordingly. \nContact: Jeremy Azinger (239-851-2926 | Jeremy@a-zshooting.com)\nMiles Scott (813-203-4480 | kilometergram@gmail.com)\nhttps://www.defcongunclub.com/club/tactical-fitness\nDetails on Required Gear/Rules/Weights – please see our website
URL:https://guncraftinc.com/event/defcon-gun-club-14/
END:VEVENT
BEGIN:VEVENT
DTSTART;TZID=UTC:20251129T090000
DTEND;TZID=UTC:20251129T153000
DTSTAMP:20260424T002349
CREATED:20250624T163114Z
LAST-MODIFIED:20250624T163114Z
UID:3342-1764406800-1764430200@guncraftinc.com
SUMMARY:Defensive Revolver by Valley Defense
DESCRIPTION:Defensive Revolver \nThe course is designed for those who depend specifically on a revolver as their primary defensive weapon. The course covers everything from muzzle contact to extended range engagements. You will work on various loading techniques. Cross draw and shoulder holsters are NOT acceptable for this class\, however their viability will be discussed. Participants should (if they have one bring a secondary/hideout/back up) revolver. If it is different caliber than main revolver bring 50 rounds for it. \nIf that revolving handgun has been collecting dust in the safe\, dig it out and let’s work with it! The revolver is still and always will be a viable defensive weapon. \nEquipment Needed:\n* 300 rounds-primary gun\n* 50 rounds- secondary gun\, if available\n* Good solid belt and solid IWB/OWB holster\n* 6-10 speed loaders/pouches if available\n* If using moon clips 10-12 clips plus tools to reload\n* Small screw driver\n*safety gear- brimmed hat/eye + ear pro/closed toe shoes and any other weather appropriate clothing \nCourse Tuition: $265 \nSign up – www.valleydefense.com \nemail – training@valleydefense.com
URL:https://guncraftinc.com/event/defensive-revolver-by-valley-defense/
END:VEVENT
BEGIN:VEVENT
DTSTART;TZID=UTC:20251130T090000
DTEND;TZID=UTC:20251130T133000
DTSTAMP:20260424T002349
CREATED:20250123T145743Z
LAST-MODIFIED:20250123T145743Z
UID:3226-1764493200-1764509400@guncraftinc.com
SUMMARY:Florida Conceal Carry League
DESCRIPTION:Florida Conceal Carry League \nRamos Action Shooting LLC has created The Florida Concealed Carry League (FLCCL) to\nprovide a venue for Shooters to use\, compete\, improve\, and test their daily conceal carry\nequipment. The idea is to provide a safe\, fun\, and challenging event where you can use the\nweapon and equipment you carry daily. The goal is to apply effective strategies to enter scenarios\nand/or stages\, react\, and gain control over your safety. Participating in our event is the only place\nyou can truly test and make sure that you can draw\, hit intended target\, reload\, and re-holster\nyour concealed carry weapon. You probably have everything you need to participate. We follow\nthe rules that we normally follow in major events.  \nSign up on practiscore.com \nQuestions – RamosActionShooting.com\n            Ramos Action Shooting on Facebook\n            813-808-9010
URL:https://guncraftinc.com/event/florida-conceal-carry-league-11/
END:VEVENT
END:VCALENDAR