BEGIN:VCALENDAR
VERSION:2.0
PRODID:-//Gun Craft - ECPv6.15.1.1//NONSGML v1.0//EN
CALSCALE:GREGORIAN
METHOD:PUBLISH
X-ORIGINAL-URL:https://guncraftinc.com
X-WR-CALDESC:Events for Gun Craft
REFRESH-INTERVAL;VALUE=DURATION:PT1H
X-Robots-Tag:noindex
X-PUBLISHED-TTL:PT1H
BEGIN:VTIMEZONE
TZID:UTC
BEGIN:STANDARD
TZOFFSETFROM:+0000
TZOFFSETTO:+0000
TZNAME:UTC
DTSTART:20270101T000000
END:STANDARD
END:VTIMEZONE
BEGIN:VEVENT
DTSTART;TZID=UTC:20271219T083000
DTEND;TZID=UTC:20271219T130000
DTSTAMP:20260425T130547
CREATED:20260424T145404Z
LAST-MODIFIED:20260424T145404Z
UID:3922-1829205000-1829221200@guncraftinc.com
SUMMARY:USPSA Match
DESCRIPTION:USPSA is an exciting sport that combines speed and accuracy – while placing you in a class with others based upon your choice of gun and skill level. \nCome out and watch – sign up and shoot – or talk to someone about getting lessons in the sport. \nUSPSA is shot on the first and third Sunday of the Month. Shooting starts about 9AM and wraps up around 1:00PM.  \nFollow them on Facebook –  GunCraft Practical Shooters – Private Message with any questions and one of the directors of the match will respond as soon as possible. \nSignup is on practiscore.com – click on Matches – click on Florida – and select the match date you would like to attend.
URL:https://guncraftinc.com/event/uspsa-match-89/
END:VEVENT
BEGIN:VEVENT
DTSTART;TZID=UTC:20271222T173000
DTEND;TZID=UTC:20271222T200000
DTSTAMP:20260425T130547
CREATED:20260424T160352Z
LAST-MODIFIED:20260424T160352Z
UID:3995-1829496600-1829505600@guncraftinc.com
SUMMARY:Tampa Bay Steel Challenge Practice Match
DESCRIPTION:Steel Challenge is a stationary speed shoot in which you can use anything from a .22 caliper gun and up. \nIf you like to compete\, but feel uncomfortable running while doing so\, this just might be the ticket for you. \nCheck out our other postings for this sport – Sunday is the match but during the second and forth week of each month we host a practice shoot as well – a great way to try it out. \nCome see what it is all about – this is low impact on the body and the wallet as well (22LR being the reasonable choice). \nShooting begins about 6PM and continues until about 8PM. \nSign up on practiscore.com – Click on Matches – Click on Florida – and scroll down and select the match (Tampa Bay Steel Challenge) \nCome out and watch – come out and shoot – talk to the Directors about what it takes to participate in this really fun sport.
URL:https://guncraftinc.com/event/tampa-bay-steel-challenge-practice-match-86/
END:VEVENT
BEGIN:VEVENT
DTSTART;TZID=UTC:20271226T083000
DTEND;TZID=UTC:20271226T130000
DTSTAMP:20260425T130547
CREATED:20260424T161027Z
LAST-MODIFIED:20260424T161027Z
UID:4011-1829809800-1829826000@guncraftinc.com
SUMMARY:Doodle Hill Regulators - Cowboy Action Shooting
DESCRIPTION:Cowboy Action Shooting  \nStep into the past and enjoy watching or shooting this sport. Fanning a revolver\, shooting lever action firearms – all while dressed era appropriately.  \nThese matches are part of SASS (Single Action Shooting Society). \nRuskin was known as Doodle Hill\, back in the day and these shooters try to honor those roots. \n(Note – due to the Florida heat\, these shoots are from September – April of each year) \nLearn more at:- https://actionshootingnetwork.com
URL:https://guncraftinc.com/event/doodle-hill-regulators-cowboy-action-shooting-28/
END:VEVENT
END:VCALENDAR