BEGIN:VCALENDAR
VERSION:2.0
PRODID:-//Gun Craft - ECPv6.15.1.1//NONSGML v1.0//EN
CALSCALE:GREGORIAN
METHOD:PUBLISH
X-ORIGINAL-URL:https://guncraftinc.com
X-WR-CALDESC:Events for Gun Craft
REFRESH-INTERVAL;VALUE=DURATION:PT1H
X-Robots-Tag:noindex
X-PUBLISHED-TTL:PT1H
BEGIN:VTIMEZONE
TZID:UTC
BEGIN:STANDARD
TZOFFSETFROM:+0000
TZOFFSETTO:+0000
TZNAME:UTC
DTSTART:20270101T000000
END:STANDARD
END:VTIMEZONE
BEGIN:VEVENT
DTSTART;TZID=UTC:20271124T173000
DTEND;TZID=UTC:20271124T200000
DTSTAMP:20260425T112255
CREATED:20260424T160254Z
LAST-MODIFIED:20260424T160254Z
UID:3991-1827077400-1827086400@guncraftinc.com
SUMMARY:Tampa Bay Steel Challenge Practice Match
DESCRIPTION:Steel Challenge is a stationary speed shoot in which you can use anything from a .22 caliper gun and up. \nIf you like to compete\, but feel uncomfortable running while doing so\, this just might be the ticket for you. \nCheck out our other postings for this sport – Sunday is the match but during the second and forth week of each month we host a practice shoot as well – a great way to try it out. \nCome see what it is all about – this is low impact on the body and the wallet as well (22LR being the reasonable choice). \nShooting begins about 6PM and continues until about 8PM. \nSign up on practiscore.com – Click on Matches – Click on Florida – and scroll down and select the match (Tampa Bay Steel Challenge) \nCome out and watch – come out and shoot – talk to the Directors about what it takes to participate in this really fun sport.
URL:https://guncraftinc.com/event/tampa-bay-steel-challenge-practice-match-84/
LOCATION:FL
END:VEVENT
BEGIN:VEVENT
DTSTART;TZID=UTC:20271128T083000
DTEND;TZID=UTC:20271128T130000
DTSTAMP:20260425T112255
CREATED:20260424T161001Z
LAST-MODIFIED:20260424T161001Z
UID:4009-1827390600-1827406800@guncraftinc.com
SUMMARY:Doodle Hill Regulators - Cowboy Action Shooting
DESCRIPTION:Cowboy Action Shooting  \nStep into the past and enjoy watching or shooting this sport. Fanning a revolver\, shooting lever action firearms – all while dressed era appropriately.  \nThese matches are part of SASS (Single Action Shooting Society). \nRuskin was known as Doodle Hill\, back in the day and these shooters try to honor those roots. \n(Note – due to the Florida heat\, these shoots are from September – April of each year) \nLearn more at:- https://actionshootingnetwork.com
URL:https://guncraftinc.com/event/doodle-hill-regulators-cowboy-action-shooting-27/
LOCATION:FL
END:VEVENT
BEGIN:VEVENT
DTSTART;TZID=UTC:20271204T130000
DTEND;TZID=UTC:20271204T160000
DTSTAMP:20260425T112255
CREATED:20260313T175935Z
LAST-MODIFIED:20260313T175935Z
UID:3861-1827925200-1827936000@guncraftinc.com
SUMMARY:Constitutional Carry/Concealed Weapon License Class
DESCRIPTION:DATE: Saturday  December 5\,2026\nTIME:   1PM – 4PM\nCOST: $60*\nTO REGISTER: Call or email Gun Craft at 813-645-3828 or guncraftinc@live.com\n→ Click HERE to follow us on Facebook ← \n→ Click HERE to follow us on Instagram ← \n*A 50% deposit is required to register for this class. This deposit is non-refundable\, but is transferable to other class offerings if the student needs to cancel. \nDESCRIPTION:\nThis class is designed for those with firearms experience\, or new shooters\, who are looking to apply for their Florida Concealed Weapon License. This class is designed to cover all requirements in Florida Statue 790.06 to allow you to apply for your Florida Concealed Weapon License. There will be approximately 2 hours of class time and up to 1 hour of range time. \nNote: Constitutional Carry does require the same knowledge of the laws and safety\, which this class offers. \nIN THIS CLASS WE WILL COVER: \n\nBasic firearms safety\nMechanics of semi-automatic handguns and revolvers\nHow to safely load and unload firearms\nClearing common malfunctions and stoppages\nShooting fundamentals\nFlorida Gun Laws\nWhere you can and cannot carry\n\nWe provide the firearm and ammunition for this class. You do not need to bring a firearm or ammunition. \nALL STUDENTS WILL NEED: Eye and ear protection during the shooting portion; eye and ear protection are available for purchase at the range if needed. \nWe have bottled water and soda available for purchase at the range\, or you are welcome to bring your own to the class. \nPlease wear range appropriate attire. This includes closed-toed shoes\, shirt to the base of the neck (no low-cut or short-cut shirts)\, shorts or long pants.
URL:https://guncraftinc.com/event/constitutional-carry-concealed-weapon-license-class-94/
LOCATION:Gun Craft\, 2102 24th St. S.E.\, Ruskin\, FL\, 33570\, United States
END:VEVENT
BEGIN:VEVENT
DTSTART;TZID=UTC:20271205T083000
DTEND;TZID=UTC:20271205T130000
DTSTAMP:20260425T112255
CREATED:20260424T145108Z
LAST-MODIFIED:20260424T145108Z
UID:3919-1827995400-1828011600@guncraftinc.com
SUMMARY:USPSA Match
DESCRIPTION:USPSA is an exciting sport that combines speed and accuracy – while placing you in a class with others based upon your choice of gun and skill level. \nCome out and watch – sign up and shoot – or talk to someone about getting lessons in the sport. \nUSPSA is shot on the first and third Sunday of the Month. Shooting starts about 9AM and wraps up around 1:00PM.  \nFollow them on Facebook –  GunCraft Practical Shooters – Private Message with any questions and one of the directors of the match will respond as soon as possible. \nSignup is on practiscore.com – click on Matches – click on Florida – and select the match date you would like to attend.
URL:https://guncraftinc.com/event/uspsa-match-88/
LOCATION:FL
END:VEVENT
BEGIN:VEVENT
DTSTART;TZID=UTC:20271208T173000
DTEND;TZID=UTC:20271208T200000
DTSTAMP:20260425T112255
CREATED:20260424T160324Z
LAST-MODIFIED:20260424T160324Z
UID:3993-1828287000-1828296000@guncraftinc.com
SUMMARY:Tampa Bay Steel Challenge Practice Match
DESCRIPTION:Steel Challenge is a stationary speed shoot in which you can use anything from a .22 caliper gun and up. \nIf you like to compete\, but feel uncomfortable running while doing so\, this just might be the ticket for you. \nCheck out our other postings for this sport – Sunday is the match but during the second and forth week of each month we host a practice shoot as well – a great way to try it out. \nCome see what it is all about – this is low impact on the body and the wallet as well (22LR being the reasonable choice). \nShooting begins about 6PM and continues until about 8PM. \nSign up on practiscore.com – Click on Matches – Click on Florida – and scroll down and select the match (Tampa Bay Steel Challenge) \nCome out and watch – come out and shoot – talk to the Directors about what it takes to participate in this really fun sport.
URL:https://guncraftinc.com/event/tampa-bay-steel-challenge-practice-match-85/
LOCATION:FL
END:VEVENT
BEGIN:VEVENT
DTSTART;TZID=UTC:20271212T083000
DTEND;TZID=UTC:20271212T130000
DTSTAMP:20260425T112255
CREATED:20260424T150953Z
LAST-MODIFIED:20260424T150953Z
UID:3947-1828600200-1828616400@guncraftinc.com
SUMMARY:Tampa Bay Steel Challenge
DESCRIPTION:Steel Challenge is a stationary speed shoot in which you can use anything from a .22 caliper gun and up. \nIf you like to compete\, but feel uncomfortable running while doing so\, this just might be the ticket for you. \nCheck out our other postings for this sport – Sunday is the match but during the second and forth week of each month we host a practice shoot as well – a great way to try it out.  \nCome see what it is all about – this is low impact on the body and the wallet as well (22LR being the reasonable choice). \nShooting begins about 9AM and continues until about 1PM. \nSign up on practiscore.com – Click on Matches – Click on Florida – and scroll down and select the match (Tampa Bay Steel Challenge)  \nCome out and watch – come out and shoot – talk to the Directors about what it takes to participate in this really fun sport.
URL:https://guncraftinc.com/event/tampa-bay-steel-challenge-44/
LOCATION:FL
END:VEVENT
BEGIN:VEVENT
DTSTART;TZID=UTC:20271218T130000
DTEND;TZID=UTC:20271218T160000
DTSTAMP:20260425T112255
CREATED:20260313T180006Z
LAST-MODIFIED:20260313T180006Z
UID:3863-1829134800-1829145600@guncraftinc.com
SUMMARY:Constitutional Carry/Concealed Weapon License Class
DESCRIPTION:DATE: Saturday  December 5\,2026\nTIME:   1PM – 4PM\nCOST: $60*\nTO REGISTER: Call or email Gun Craft at 813-645-3828 or guncraftinc@live.com\n→ Click HERE to follow us on Facebook ← \n→ Click HERE to follow us on Instagram ← \n*A 50% deposit is required to register for this class. This deposit is non-refundable\, but is transferable to other class offerings if the student needs to cancel. \nDESCRIPTION:\nThis class is designed for those with firearms experience\, or new shooters\, who are looking to apply for their Florida Concealed Weapon License. This class is designed to cover all requirements in Florida Statue 790.06 to allow you to apply for your Florida Concealed Weapon License. There will be approximately 2 hours of class time and up to 1 hour of range time. \nNote: Constitutional Carry does require the same knowledge of the laws and safety\, which this class offers. \nIN THIS CLASS WE WILL COVER: \n\nBasic firearms safety\nMechanics of semi-automatic handguns and revolvers\nHow to safely load and unload firearms\nClearing common malfunctions and stoppages\nShooting fundamentals\nFlorida Gun Laws\nWhere you can and cannot carry\n\nWe provide the firearm and ammunition for this class. You do not need to bring a firearm or ammunition. \nALL STUDENTS WILL NEED: Eye and ear protection during the shooting portion; eye and ear protection are available for purchase at the range if needed. \nWe have bottled water and soda available for purchase at the range\, or you are welcome to bring your own to the class. \nPlease wear range appropriate attire. This includes closed-toed shoes\, shirt to the base of the neck (no low-cut or short-cut shirts)\, shorts or long pants.
URL:https://guncraftinc.com/event/constitutional-carry-concealed-weapon-license-class-95/
LOCATION:Gun Craft\, 2102 24th St. S.E.\, Ruskin\, FL\, 33570\, United States
END:VEVENT
BEGIN:VEVENT
DTSTART;TZID=UTC:20271219T083000
DTEND;TZID=UTC:20271219T130000
DTSTAMP:20260425T112255
CREATED:20260424T145404Z
LAST-MODIFIED:20260424T145404Z
UID:3922-1829205000-1829221200@guncraftinc.com
SUMMARY:USPSA Match
DESCRIPTION:USPSA is an exciting sport that combines speed and accuracy – while placing you in a class with others based upon your choice of gun and skill level. \nCome out and watch – sign up and shoot – or talk to someone about getting lessons in the sport. \nUSPSA is shot on the first and third Sunday of the Month. Shooting starts about 9AM and wraps up around 1:00PM.  \nFollow them on Facebook –  GunCraft Practical Shooters – Private Message with any questions and one of the directors of the match will respond as soon as possible. \nSignup is on practiscore.com – click on Matches – click on Florida – and select the match date you would like to attend.
URL:https://guncraftinc.com/event/uspsa-match-89/
LOCATION:FL
END:VEVENT
BEGIN:VEVENT
DTSTART;TZID=UTC:20271222T173000
DTEND;TZID=UTC:20271222T200000
DTSTAMP:20260425T112255
CREATED:20260424T160352Z
LAST-MODIFIED:20260424T160352Z
UID:3995-1829496600-1829505600@guncraftinc.com
SUMMARY:Tampa Bay Steel Challenge Practice Match
DESCRIPTION:Steel Challenge is a stationary speed shoot in which you can use anything from a .22 caliper gun and up. \nIf you like to compete\, but feel uncomfortable running while doing so\, this just might be the ticket for you. \nCheck out our other postings for this sport – Sunday is the match but during the second and forth week of each month we host a practice shoot as well – a great way to try it out. \nCome see what it is all about – this is low impact on the body and the wallet as well (22LR being the reasonable choice). \nShooting begins about 6PM and continues until about 8PM. \nSign up on practiscore.com – Click on Matches – Click on Florida – and scroll down and select the match (Tampa Bay Steel Challenge) \nCome out and watch – come out and shoot – talk to the Directors about what it takes to participate in this really fun sport.
URL:https://guncraftinc.com/event/tampa-bay-steel-challenge-practice-match-86/
LOCATION:FL
END:VEVENT
BEGIN:VEVENT
DTSTART;TZID=UTC:20271226T083000
DTEND;TZID=UTC:20271226T130000
DTSTAMP:20260425T112255
CREATED:20260424T161027Z
LAST-MODIFIED:20260424T161027Z
UID:4011-1829809800-1829826000@guncraftinc.com
SUMMARY:Doodle Hill Regulators - Cowboy Action Shooting
DESCRIPTION:Cowboy Action Shooting  \nStep into the past and enjoy watching or shooting this sport. Fanning a revolver\, shooting lever action firearms – all while dressed era appropriately.  \nThese matches are part of SASS (Single Action Shooting Society). \nRuskin was known as Doodle Hill\, back in the day and these shooters try to honor those roots. \n(Note – due to the Florida heat\, these shoots are from September – April of each year) \nLearn more at:- https://actionshootingnetwork.com
URL:https://guncraftinc.com/event/doodle-hill-regulators-cowboy-action-shooting-28/
LOCATION:FL
END:VEVENT
END:VCALENDAR