BEGIN:VCALENDAR
VERSION:2.0
PRODID:-//Gun Craft - ECPv6.15.1.1//NONSGML v1.0//EN
CALSCALE:GREGORIAN
METHOD:PUBLISH
X-WR-CALNAME:Gun Craft
X-ORIGINAL-URL:https://guncraftinc.com
X-WR-CALDESC:Events for Gun Craft
REFRESH-INTERVAL;VALUE=DURATION:PT1H
X-Robots-Tag:noindex
X-PUBLISHED-TTL:PT1H
BEGIN:VTIMEZONE
TZID:UTC
BEGIN:STANDARD
TZOFFSETFROM:+0000
TZOFFSETTO:+0000
TZNAME:UTC
DTSTART:20270101T000000
END:STANDARD
END:VTIMEZONE
BEGIN:VEVENT
DTSTART;TZID=UTC:20271128T083000
DTEND;TZID=UTC:20271128T130000
DTSTAMP:20260425T010404
CREATED:20260424T161001Z
LAST-MODIFIED:20260424T161001Z
UID:4009-1827390600-1827406800@guncraftinc.com
SUMMARY:Doodle Hill Regulators - Cowboy Action Shooting
DESCRIPTION:Cowboy Action Shooting  \nStep into the past and enjoy watching or shooting this sport. Fanning a revolver\, shooting lever action firearms – all while dressed era appropriately.  \nThese matches are part of SASS (Single Action Shooting Society). \nRuskin was known as Doodle Hill\, back in the day and these shooters try to honor those roots. \n(Note – due to the Florida heat\, these shoots are from September – April of each year) \nLearn more at:- https://actionshootingnetwork.com
URL:https://guncraftinc.com/event/doodle-hill-regulators-cowboy-action-shooting-27/
END:VEVENT
END:VCALENDAR