BEGIN:VCALENDAR
VERSION:2.0
PRODID:-//Gun Craft - ECPv6.15.1.1//NONSGML v1.0//EN
CALSCALE:GREGORIAN
METHOD:PUBLISH
X-WR-CALNAME:Gun Craft
X-ORIGINAL-URL:https://guncraftinc.com
X-WR-CALDESC:Events for Gun Craft
REFRESH-INTERVAL;VALUE=DURATION:PT1H
X-Robots-Tag:noindex
X-PUBLISHED-TTL:PT1H
BEGIN:VTIMEZONE
TZID:UTC
BEGIN:STANDARD
TZOFFSETFROM:+0000
TZOFFSETTO:+0000
TZNAME:UTC
DTSTART:20260101T000000
END:STANDARD
END:VTIMEZONE
BEGIN:VEVENT
DTSTART;TZID=UTC:20261219T083000
DTEND;TZID=UTC:20261219T143000
DTSTAMP:20260424T044350
CREATED:20251031T165558Z
LAST-MODIFIED:20251218T143354Z
UID:3648-1797669000-1797690600@guncraftinc.com
SUMMARY:DEFCON Gun Club
DESCRIPTION:DEFCON Gun Club TACFIT \nAt its core\, TACFIT (Tactical Fitness) challenges athletes with a blend of physical fitness and shooting skills. Each stage involves strenuous activity combined with precision shooting. Whether you’re a public servant\, a competitive athlete\, or someone looking to test their endurance\, TACFIT provides an exciting and demanding platform to assess your abilities. \nExpect challenging workouts that will push you to your limits\, all in a supportive and motivating group environment. \nKey Components: \nEndurance: Participants face physically demanding scenarios that simulate real-world challenges. From pushing sleds to carrying heavy loads\, endurance plays a crucial role. \nMarksmanship: Accurate shooting under pressure is essential. Athletes engage targets while enduring physical stress\, adding an extra layer of complexity. \nStrength: TACFIT requires functional strength. Athletes must carry gear\, climb\, crawl\, and perform other physically demanding tasks. \nElite Competition Preparation: Elevate your physical prowess and marksmanship abilities for top-tier events like The Tactical Games\, The Patriot Games\, The Proving Grounds\, Green Beret Fitness challenges\, and a host of others. Master the game\, refine your techniques\, and seize victory from the competition. \nTailored for All: Whether you’re a novice or a seasoned competitor\, we cater to diverse fitness levels and aspirations. Recognizing individual differences\, we prioritize enjoyment; if a workout feels overwhelming or weights seem daunting\, don’t fret—tune into your body’s cues and adapt accordingly. \nContact: Jeremy Azinger (239-851-2926 | Jeremy@a-zshooting.com) \nhttps://www.defcongunclub.com/club/tactical-fitness\nDetails on Required Gear/Rules/Weights – please see our website
URL:https://guncraftinc.com/event/defcon-gun-club-12/
END:VEVENT
BEGIN:VEVENT
DTSTART;TZID=UTC:20261219T130000
DTEND;TZID=UTC:20261219T160000
DTSTAMP:20260424T044350
CREATED:20250723T131217Z
LAST-MODIFIED:20250723T131217Z
UID:3559-1797685200-1797696000@guncraftinc.com
SUMMARY:Constitutional Carry/Concealed Weapon License Class - in or out of state residences welcome
DESCRIPTION:DATE: Saturday  December 19\,2026\nTIME:   1PM – 4PM\nCOST: $60*\nTO REGISTER: Call or email Gun Craft at 813-645-3828 or guncraftinc@live.com\n→ Click HERE to follow us on Facebook ← \n→ Click HERE to follow us on Instagram ← \n*A 50% deposit is required to register for this class. This deposit is non-refundable\, but is transferable to other class offerings if the student needs to cancel. \nDESCRIPTION:\nThis class is designed for those with firearms experience\, or new shooters\, who are looking to apply for their Florida Concealed Weapon License. This class is designed to cover all requirements in Florida Statue 790.06 to allow you to apply for your Florida Concealed Weapon License. There will be approximately 2 hours of class time and up to 1 hour of range time. \nNote: Constitutional Carry does require the same knowledge of the laws and safety\, which this class offers. \nIN THIS CLASS WE WILL COVER: \n\nBasic firearms safety\nMechanics of semi-automatic handguns and revolvers\nHow to safely load and unload firearms\nClearing common malfunctions and stoppages\nShooting fundamentals\nFlorida Gun Laws\nWhere you can and cannot carry\n\nWe provide the firearm and ammunition for this class. You do not need to bring a firearm or ammunition. \nALL STUDENTS WILL NEED: Eye and ear protection during the shooting portion; eye and ear protection are available for purchase at the range if needed. \nWe have bottled water and soda available for purchase at the range\, or you are welcome to bring your own to the class. \nPlease wear range appropriate attire. This includes closed-toed shoes\, shirt to the base of the neck (no low-cut or short-cut shirts)\, shorts or long pants.
URL:https://guncraftinc.com/event/constitutional-carry-concealed-weapon-license-class-in-or-out-of-state-residences-welcome/
LOCATION:Gun Craft\, 2102 24th St. S.E.\, Ruskin\, FL\, 33570\, United States
END:VEVENT
END:VCALENDAR