BEGIN:VCALENDAR
VERSION:2.0
PRODID:-//Gun Craft - ECPv6.15.1.1//NONSGML v1.0//EN
CALSCALE:GREGORIAN
METHOD:PUBLISH
X-ORIGINAL-URL:https://guncraftinc.com
X-WR-CALDESC:Events for Gun Craft
REFRESH-INTERVAL;VALUE=DURATION:PT1H
X-Robots-Tag:noindex
X-PUBLISHED-TTL:PT1H
BEGIN:VTIMEZONE
TZID:UTC
BEGIN:STANDARD
TZOFFSETFROM:+0000
TZOFFSETTO:+0000
TZNAME:UTC
DTSTART:20260101T000000
END:STANDARD
END:VTIMEZONE
BEGIN:VEVENT
DTSTART;TZID=UTC:20260905T083000
DTEND;TZID=UTC:20260905T143000
DTSTAMP:20260423T224705
CREATED:20251031T165220Z
LAST-MODIFIED:20251218T143548Z
UID:3642-1788597000-1788618600@guncraftinc.com
SUMMARY:DEFCON Gun Club
DESCRIPTION:DEFCON Gun Club TACFIT \nAt its core\, TACFIT (Tactical Fitness) challenges athletes with a blend of physical fitness and shooting skills. Each stage involves strenuous activity combined with precision shooting. Whether you’re a public servant\, a competitive athlete\, or someone looking to test their endurance\, TACFIT provides an exciting and demanding platform to assess your abilities. \nExpect challenging workouts that will push you to your limits\, all in a supportive and motivating group environment. \nKey Components: \nEndurance: Participants face physically demanding scenarios that simulate real-world challenges. From pushing sleds to carrying heavy loads\, endurance plays a crucial role. \nMarksmanship: Accurate shooting under pressure is essential. Athletes engage targets while enduring physical stress\, adding an extra layer of complexity. \nStrength: TACFIT requires functional strength. Athletes must carry gear\, climb\, crawl\, and perform other physically demanding tasks. \nElite Competition Preparation: Elevate your physical prowess and marksmanship abilities for top-tier events like The Tactical Games\, The Patriot Games\, The Proving Grounds\, Green Beret Fitness challenges\, and a host of others. Master the game\, refine your techniques\, and seize victory from the competition. \nTailored for All: Whether you’re a novice or a seasoned competitor\, we cater to diverse fitness levels and aspirations. Recognizing individual differences\, we prioritize enjoyment; if a workout feels overwhelming or weights seem daunting\, don’t fret—tune into your body’s cues and adapt accordingly. \nContact: Jeremy Azinger (239-851-2926 | Jeremy@a-zshooting.com) \nhttps://www.defcongunclub.com/club/tactical-fitness\nDetails on Required Gear/Rules/Weights – please see our website
URL:https://guncraftinc.com/event/defcon-gun-club-9/
END:VEVENT
END:VCALENDAR