BEGIN:VCALENDAR
VERSION:2.0
PRODID:-//Gun Craft - ECPv6.15.1.1//NONSGML v1.0//EN
CALSCALE:GREGORIAN
METHOD:PUBLISH
X-ORIGINAL-URL:https://guncraftinc.com
X-WR-CALDESC:Events for Gun Craft
REFRESH-INTERVAL;VALUE=DURATION:PT1H
X-Robots-Tag:noindex
X-PUBLISHED-TTL:PT1H
BEGIN:VTIMEZONE
TZID:UTC
BEGIN:STANDARD
TZOFFSETFROM:+0000
TZOFFSETTO:+0000
TZNAME:UTC
DTSTART:20260101T000000
END:STANDARD
END:VTIMEZONE
BEGIN:VEVENT
DTSTART;TZID=UTC:20260627T083000
DTEND;TZID=UTC:20260627T143000
DTSTAMP:20260423T192640
CREATED:20251210T182655Z
LAST-MODIFIED:20251216T154234Z
UID:3694-1782549000-1782570600@guncraftinc.com
SUMMARY:Defcon Tactical Fitness — Monthly Training Day
DESCRIPTION:Defcon Tactical Fitness — Monthly Training Day\nReady to train like you compete? Our monthly training day is back! This event features two –\nfour stages built in the style of The Tactical Games and The Patriot Games\, combining\nfunctional fitness with practical shooting to push your conditioning\, accuracy\, and weapons\nhandling under stress.\nEach stage includes both a workout component and a shooting component — perfect for\nsharpening your skills or prepping for a bigger competition.\n🔫 Round Count\n● 100 Pistol\n● 50 Rifle\n🎒 Equipment\nRequired:\n● Pistol / Rifle\n● 3 magazines for each weapon system\n● Ear & Eye Protection\n● Closed-toe shoes\n● Range / fitness-appropriate attire (no low-cut shirts)\nSuggested:\n● Gun belt with retention holster / Rifle sling\n● Water & snacks\n● Sunscreen / Bug spray\n🕗 Schedule\n● 0800–0845 — Check-In\n● 0845 — Safety Brief\n● 0900 — First Shots\n📅 Register Here:\nhttps://practiscore.com/clubs/defcon_tactical_fitness\nCome train with a motivated community and challenge yourself on stages designed to make you\nstronger\, faster\, and more accurate under pressure. See you on the range!
URL:https://guncraftinc.com/event/defcon-tactical-fitness-monthly-training-day-6/
END:VEVENT
BEGIN:VEVENT
DTSTART;TZID=UTC:20260627T163000
DTEND;TZID=UTC:20260627T190000
DTSTAMP:20260423T192640
CREATED:20260220T164315Z
LAST-MODIFIED:20260220T164315Z
UID:3812-1782577800-1782586800@guncraftinc.com
SUMMARY:Monthly Defensive Pistol Drills
DESCRIPTION:Monthly Defensive Pistol Drills\nThese two-hour sessions provide an opportunity to keep your defensive pistol skills sharp. If you carry a gun as part of your normal daily routine\, these drill sessions are for you. Every drill is shot from concealment\, using your everyday carry gear on a dynamic range.\n•	Each session is comprised of very specific pistol drills\, focusing on a particular skill\n•	A new skill is presented and practiced each month\n•	Sessions have a round count of 50 or less\, so you get maximum training without excessive ammo expenditure.\n•	Some examples of topics covered are:\no	Multiple threat scenarios\no	Shooting from cover\no	Strong-hand only and weak-hand only shooting\no	Shooting and moving\no	Close contact shooting \nThis training is reserved for the Intermediate Level shooter. THIS IS NOT A BEGINNER’S COURSE. You must be able to run your gun safely and efficiently without assistance.\nPrerequisite skills required:\nA very high level of safe gun handling\, loading\, unloading\, clearing malfunctions\, and drawing safely from concealment.  \nPrice: $80 per session (Includes your range fee and targets)\nSafety Brief starts promptly at 5pm\nNo walk-ins\, reservations are required to attend\nContact Wes at ballisticdynamics@yahoo.com for reservations
URL:https://guncraftinc.com/event/monthly-defensive-pistol-drills-7/
END:VEVENT
END:VCALENDAR