BEGIN:VCALENDAR
VERSION:2.0
PRODID:-//Gun Craft - ECPv6.15.1.1//NONSGML v1.0//EN
CALSCALE:GREGORIAN
METHOD:PUBLISH
X-ORIGINAL-URL:https://guncraftinc.com
X-WR-CALDESC:Events for Gun Craft
REFRESH-INTERVAL;VALUE=DURATION:PT1H
X-Robots-Tag:noindex
X-PUBLISHED-TTL:PT1H
BEGIN:VTIMEZONE
TZID:UTC
BEGIN:STANDARD
TZOFFSETFROM:+0000
TZOFFSETTO:+0000
TZNAME:UTC
DTSTART:20260101T000000
END:STANDARD
END:VTIMEZONE
BEGIN:VEVENT
DTSTART;TZID=UTC:20260521T090000
DTEND;TZID=UTC:20260523T170000
DTSTAMP:20260423T175640
CREATED:20260416T172203Z
LAST-MODIFIED:20260416T172203Z
UID:3869-1779354000-1779555600@guncraftinc.com
SUMMARY:Florida G License Course 28 Hours Initial
DESCRIPTION:Florida G License Course 28 Hours Initial \nSchedule and Details \nDate: May 21\, 22 and 23\, 2026 \nTime: 9:00 AM – 5:00 PM \nLocation \nGun Craft 2102 24th St SE (driving\, 2403 21st Ave SE\, Ruskin\, FL 33570) \nRegistration https://form.jotform.com/261055233962152 \nContact Information katerinaconsultantcontractor@gmail.com \nor 8506249313
URL:https://guncraftinc.com/event/florida-g-license-course-28-hours-initial/
END:VEVENT
BEGIN:VEVENT
DTSTART;TZID=UTC:20260523T163000
DTEND;TZID=UTC:20260523T190000
DTSTAMP:20260423T175640
CREATED:20250222T140805Z
LAST-MODIFIED:20260220T143000Z
UID:3236-1779553800-1779562800@guncraftinc.com
SUMMARY:Monthly Defensive Drills with Ballistic Dynamics
DESCRIPTION:Monthly Defensive Pistol Drills\nThese two-hour sessions provide an opportunity to keep your defensive pistol skills sharp. If you carry a gun as part of your normal daily routine\, these drill sessions are for you. Every drill is shot from concealment\, using your everyday carry gear on a dynamic range.\n•	Each session is comprised of very specific pistol drills\, focusing on a particular skill\n•	A new skill is presented and practiced each month\n•	Sessions have a round count of 50 or less\, so you get maximum training without excessive ammo expenditure.\n•	Some examples of topics covered are:\no	Multiple threat scenarios\no	Shooting from cover\no	Strong-hand only and weak-hand only shooting\no	Shooting and moving\no	Close contact shooting \nThis training is reserved for the Intermediate Level shooter. THIS IS NOT A BEGINNER’S COURSE. You must be able to run your gun safely and efficiently without assistance.\nPrerequisite skills required:\nA very high level of safe gun handling\, loading\, unloading\, clearing malfunctions\, and drawing safely from concealment.  \nPrice: $80 per session (Includes your range fee and targets)\nSafety Brief starts promptly at 5pm\nNo walk-ins\, reservations are required to attend\nContact Wes at ballisticdynamics@yahoo.com for reservations
URL:https://guncraftinc.com/event/monthly-defensive-drills-with-ballistic-dynamics/
END:VEVENT
BEGIN:VEVENT
DTSTART;TZID=UTC:20260523T163000
DTEND;TZID=UTC:20260523T190000
DTSTAMP:20260423T175640
CREATED:20260220T164238Z
LAST-MODIFIED:20260220T164238Z
UID:3810-1779553800-1779562800@guncraftinc.com
SUMMARY:Monthly Defensive Pistol Drills
DESCRIPTION:Monthly Defensive Pistol Drills\nThese two-hour sessions provide an opportunity to keep your defensive pistol skills sharp. If you carry a gun as part of your normal daily routine\, these drill sessions are for you. Every drill is shot from concealment\, using your everyday carry gear on a dynamic range.\n•	Each session is comprised of very specific pistol drills\, focusing on a particular skill\n•	A new skill is presented and practiced each month\n•	Sessions have a round count of 50 or less\, so you get maximum training without excessive ammo expenditure.\n•	Some examples of topics covered are:\no	Multiple threat scenarios\no	Shooting from cover\no	Strong-hand only and weak-hand only shooting\no	Shooting and moving\no	Close contact shooting \nThis training is reserved for the Intermediate Level shooter. THIS IS NOT A BEGINNER’S COURSE. You must be able to run your gun safely and efficiently without assistance.\nPrerequisite skills required:\nA very high level of safe gun handling\, loading\, unloading\, clearing malfunctions\, and drawing safely from concealment.  \nPrice: $80 per session (Includes your range fee and targets)\nSafety Brief starts promptly at 5pm\nNo walk-ins\, reservations are required to attend\nContact Wes at ballisticdynamics@yahoo.com for reservations
URL:https://guncraftinc.com/event/monthly-defensive-pistol-drills-6/
END:VEVENT
END:VCALENDAR