BEGIN:VCALENDAR
VERSION:2.0
PRODID:-//Gun Craft - ECPv6.15.1.1//NONSGML v1.0//EN
CALSCALE:GREGORIAN
METHOD:PUBLISH
X-WR-CALNAME:Gun Craft
X-ORIGINAL-URL:https://guncraftinc.com
X-WR-CALDESC:Events for Gun Craft
REFRESH-INTERVAL;VALUE=DURATION:PT1H
X-Robots-Tag:noindex
X-PUBLISHED-TTL:PT1H
BEGIN:VTIMEZONE
TZID:UTC
BEGIN:STANDARD
TZOFFSETFROM:+0000
TZOFFSETTO:+0000
TZNAME:UTC
DTSTART:20260101T000000
END:STANDARD
END:VTIMEZONE
BEGIN:VEVENT
DTSTART;TZID=UTC:20260513T173000
DTEND;TZID=UTC:20260513T200000
DTSTAMP:20260423T175331
CREATED:20250710T142002Z
LAST-MODIFIED:20250710T142002Z
UID:3382-1778693400-1778702400@guncraftinc.com
SUMMARY:Tampa Bay Steel Challenge Practice Match
DESCRIPTION:Steel Challenge is a stationary speed shoot in which you can use anything from a .22 caliper gun and up. \nIf you like to compete\, but feel uncomfortable running while doing so\, this just might be the ticket for you. \nCheck out our other postings for this sport – Sunday is the match but during the second and forth week of each month we host a practice shoot as well – a great way to try it out. \nCome see what it is all about – this is low impact on the body and the wallet as well (22LR being the reasonable choice). \nShooting begins about 6PM and continues until about 8PM. \nSign up on practiscore.com – Click on Matches – Click on Florida – and scroll down and select the match (Tampa Bay Steel Challenge) \nCome out and watch – come out and shoot – talk to the Directors about what it takes to participate in this really fun sport.
URL:https://guncraftinc.com/event/tampa-bay-steel-challenge-practice-match-47/
END:VEVENT
END:VCALENDAR