BEGIN:VCALENDAR
VERSION:2.0
PRODID:-//Gun Craft - ECPv6.15.1.1//NONSGML v1.0//EN
CALSCALE:GREGORIAN
METHOD:PUBLISH
X-WR-CALNAME:Gun Craft
X-ORIGINAL-URL:https://guncraftinc.com
X-WR-CALDESC:Events for Gun Craft
REFRESH-INTERVAL;VALUE=DURATION:PT1H
X-Robots-Tag:noindex
X-PUBLISHED-TTL:PT1H
BEGIN:VTIMEZONE
TZID:UTC
BEGIN:STANDARD
TZOFFSETFROM:+0000
TZOFFSETTO:+0000
TZNAME:UTC
DTSTART:20260101T000000
END:STANDARD
END:VTIMEZONE
BEGIN:VEVENT
DTSTART;TZID=UTC:20260509T130000
DTEND;TZID=UTC:20260509T160000
DTSTAMP:20260423T192507
CREATED:20250722T190400Z
LAST-MODIFIED:20250722T190400Z
UID:3525-1778331600-1778342400@guncraftinc.com
SUMMARY:Constitutional Carry/Concealed Weapon License Class
DESCRIPTION:DATE: Saturday May 9\, 2026\nTIME:   1PM – 4PM\nCOST: $60*\nTO REGISTER: Call or email Gun Craft at 813-645-3828 or guncraftinc@live.com\n→ Click HERE to follow us on Facebook ← \n→ Click HERE to follow us on Instagram ← \n*A 50% deposit is required to register for this class. This deposit is non-refundable\, but is transferable to other class offerings if the student needs to cancel. \nDESCRIPTION:\nThis class is designed for those with firearms experience\, or new shooters\, who are looking to apply for their Florida Concealed Weapon License. This class is designed to cover all requirements in Florida Statue 790.06 to allow you to apply for your Florida Concealed Weapon License. There will be approximately 2 hours of class time and up to 1 hour of range time. \nNote: Constitutional Carry does require the same knowledge of the laws and safety\, which this class offers. \nIN THIS CLASS WE WILL COVER: \n\nBasic firearms safety\nMechanics of semi-automatic handguns and revolvers\nHow to safely load and unload firearms\nClearing common malfunctions and stoppages\nShooting fundamentals\nFlorida Gun Laws\nWhere you can and cannot carry\n\nWe provide the firearm and ammunition for this class. You do not need to bring a firearm or ammunition. \nALL STUDENTS WILL NEED: Eye and ear protection during the shooting portion; eye and ear protection are available for purchase at the range if needed. \nWe have bottled water and soda available for purchase at the range\, or you are welcome to bring your own to the class. \nPlease wear range appropriate attire. This includes closed-toed shoes\, shirt to the base of the neck (no low-cut or short-cut shirts)\, shorts or long pants.
URL:https://guncraftinc.com/event/constitutional-carry-concealed-weapon-license-class-61/
LOCATION:Gun Craft\, 2102 24th St. S.E.\, Ruskin\, FL\, 33570\, United States
END:VEVENT
END:VCALENDAR