BEGIN:VCALENDAR
VERSION:2.0
PRODID:-//Gun Craft - ECPv6.15.1.1//NONSGML v1.0//EN
CALSCALE:GREGORIAN
METHOD:PUBLISH
X-WR-CALNAME:Gun Craft
X-ORIGINAL-URL:https://guncraftinc.com
X-WR-CALDESC:Events for Gun Craft
REFRESH-INTERVAL;VALUE=DURATION:PT1H
X-Robots-Tag:noindex
X-PUBLISHED-TTL:PT1H
BEGIN:VTIMEZONE
TZID:UTC
BEGIN:STANDARD
TZOFFSETFROM:+0000
TZOFFSETTO:+0000
TZNAME:UTC
DTSTART:20260101T000000
END:STANDARD
END:VTIMEZONE
BEGIN:VEVENT
DTSTART;TZID=UTC:20260321T083000
DTEND;TZID=UTC:20260321T143000
DTSTAMP:20260423T175351
CREATED:20251031T164840Z
LAST-MODIFIED:20251218T163026Z
UID:3630-1774081800-1774103400@guncraftinc.com
SUMMARY:DEFCON Gun Club
DESCRIPTION:DEFCON Gun Club TACFIT \nAt its core\, TACFIT (Tactical Fitness) challenges athletes with a blend of physical fitness and shooting skills. Each stage involves strenuous activity combined with precision shooting. Whether you’re a public servant\, a competitive athlete\, or someone looking to test their endurance\, TACFIT provides an exciting and demanding platform to assess your abilities. \nExpect challenging workouts that will push you to your limits\, all in a supportive and motivating group environment. \nKey Components: \nEndurance: Participants face physically demanding scenarios that simulate real-world challenges. From pushing sleds to carrying heavy loads\, endurance plays a crucial role. \nMarksmanship: Accurate shooting under pressure is essential. Athletes engage targets while enduring physical stress\, adding an extra layer of complexity. \nStrength: TACFIT requires functional strength. Athletes must carry gear\, climb\, crawl\, and perform other physically demanding tasks. \nElite Competition Preparation: Elevate your physical prowess and marksmanship abilities for top-tier events like The Tactical Games\, The Patriot Games\, The Proving Grounds\, Green Beret Fitness challenges\, and a host of others. Master the game\, refine your techniques\, and seize victory from the competition. \nTailored for All: Whether you’re a novice or a seasoned competitor\, we cater to diverse fitness levels and aspirations. Recognizing individual differences\, we prioritize enjoyment; if a workout feels overwhelming or weights seem daunting\, don’t fret—tune into your body’s cues and adapt accordingly. \nContact: Jeremy Azinger (239-851-2926 | Jeremy@a-zshooting.com) \nhttps://www.defcongunclub.com/club/tactical-fitness\nDetails on Required Gear/Rules/Weights – please see our website
URL:https://guncraftinc.com/event/defcon-gun-club-3/
END:VEVENT
BEGIN:VEVENT
DTSTART;TZID=UTC:20260321T090000
DTEND;TZID=UTC:20260321T120000
DTSTAMP:20260423T175351
CREATED:20251105T174845Z
LAST-MODIFIED:20251105T174845Z
UID:3670-1774083600-1774094400@guncraftinc.com
SUMMARY:Situational Awareness Workshop
DESCRIPTION:Situational Awareness Workshop\nThis 3-hour class will inform you and equip you with the knowledge you need to see potential threats long before you need to react to them. Personal defense starts well before the need for defensive tactics or lethal force arises. Understanding the importance of a high level of awareness can prevent getting into a negative situation in the first place. Learn how to control your environment and how to react when necessary. This course is just as essential for those who choose NOT to carry a firearm\, as it is for those who do. The workshop culminates in a practical application exercise where students can put what they have learned into action.\nSome topics covered include:\n•	Risk mitigation\n•	Recognizing anomalies\n•	Identifying body language indicators\n•	Awareness in various everyday situations\n•	Responses to potential threats\n•	Much more \nPrice: $60\nNo walk-ins\, reservations are required to attend\nVisit the website to register www.ballistic-consulting.com\nOr contact Wes at ballisticdynamics@yahoo.com for reservations
URL:https://guncraftinc.com/event/situational-awareness-workshop-3/
END:VEVENT
END:VCALENDAR