BEGIN:VCALENDAR
VERSION:2.0
PRODID:-//Gun Craft - ECPv6.15.1.1//NONSGML v1.0//EN
CALSCALE:GREGORIAN
METHOD:PUBLISH
X-WR-CALNAME:Gun Craft
X-ORIGINAL-URL:https://guncraftinc.com
X-WR-CALDESC:Events for Gun Craft
REFRESH-INTERVAL;VALUE=DURATION:PT1H
X-Robots-Tag:noindex
X-PUBLISHED-TTL:PT1H
BEGIN:VTIMEZONE
TZID:UTC
BEGIN:STANDARD
TZOFFSETFROM:+0000
TZOFFSETTO:+0000
TZNAME:UTC
DTSTART:20260101T000000
END:STANDARD
END:VTIMEZONE
BEGIN:VEVENT
DTSTART;TZID=UTC:20260315T083000
DTEND;TZID=UTC:20260315T130000
DTSTAMP:20260423T175343
CREATED:20250715T160541Z
LAST-MODIFIED:20260129T182959Z
UID:3465-1773563400-1773579600@guncraftinc.com
SUMMARY:USPSA Match - cancelled - event at the range
DESCRIPTION:USPSA is an exciting sport that combines speed and accuracy – while placing you in a class with others based upon your choice of gun and skill level. \nCome out and watch – sign up and shoot – or talk to someone about getting lessons in the sport. \nUSPSA is shot on the first and third Sunday of the Month. Shooting starts about 9AM and wraps up around 1:00PM.  \nFollow them on Facebook –  GunCraft Practical Shooters – Private Message with any questions and one of the directors of the match will respond as soon as possible. \nSignup is on practiscore.com – click on Matches – click on Florida – and select the match date you would like to attend.
URL:https://guncraftinc.com/event/uspsa-match-46/
END:VEVENT
END:VCALENDAR