BEGIN:VCALENDAR
VERSION:2.0
PRODID:-//Gun Craft - ECPv6.15.1.1//NONSGML v1.0//EN
CALSCALE:GREGORIAN
METHOD:PUBLISH
X-ORIGINAL-URL:https://guncraftinc.com
X-WR-CALDESC:Events for Gun Craft
REFRESH-INTERVAL;VALUE=DURATION:PT1H
X-Robots-Tag:noindex
X-PUBLISHED-TTL:PT1H
BEGIN:VTIMEZONE
TZID:UTC
BEGIN:STANDARD
TZOFFSETFROM:+0000
TZOFFSETTO:+0000
TZNAME:UTC
DTSTART:20260101T000000
END:STANDARD
END:VTIMEZONE
BEGIN:VEVENT
DTSTART;TZID=UTC:20260314T093000
DTEND;TZID=UTC:20260314T120000
DTSTAMP:20260423T180105
CREATED:20251105T171737Z
LAST-MODIFIED:20260219T160441Z
UID:3658-1773480600-1773489600@guncraftinc.com
SUMMARY:Morning Defensive Pistol Workout - CANCELLED
DESCRIPTION:Morning Defensive Pistol Workout\nThese two-hour sessions provide an opportunity to keep your defensive pistol skills sharp. If you carry a gun as part of your normal daily routine\, these drill sessions are for you. Every drill is shot from concealment\, using your everyday carry gear on a dynamic range.\n•	Each session is comprised of very specific pistol drills\, focusing on a particular skill\n•	A new skill is presented and practiced each month\n•	Sessions have a round count of 50 or less\, so you get maximum training without excessive ammo expenditure.\n•	Some examples of topics covered are:\no	Multiple threat scenarios\no	Shooting from cover\no	Strong-hand only and weak-hand only shooting\no	Shooting and moving\no	Close contact shooting \nThis training is reserved for the Intermediate Level shooter. THIS IS NOT A BEGINNER’S COURSE. You must be able to run your gun safely and efficiently without assistance.\nPrerequisite skills required:\nA very high level of safe gun handling\, loading\, unloading\, clearing malfunctions\, and drawing safely from concealment.  \nPrice: $80 per session (Includes your range fee and targets)\nSafety Brief starts promptly at 9:45 am\nNo walk-ins\, reservations are required to attend\nVisit www.ballistic-consulting.com for registration RSVP
URL:https://guncraftinc.com/event/morning-defensive-pistol-workout-3/
END:VEVENT
BEGIN:VEVENT
DTSTART;TZID=UTC:20260314T130000
DTEND;TZID=UTC:20260314T160000
DTSTAMP:20260423T180105
CREATED:20250722T185849Z
LAST-MODIFIED:20250722T185849Z
UID:3515-1773493200-1773504000@guncraftinc.com
SUMMARY:Constitutional Carry/Concealed Weapon License Class
DESCRIPTION:DATE: Saturday March 14\,2026\nTIME:   1PM – 4PM\nCOST: $60*\nTO REGISTER: Call or email Gun Craft at 813-645-3828 or guncraftinc@live.com\n→ Click HERE to follow us on Facebook ← \n→ Click HERE to follow us on Instagram ← \n*A 50% deposit is required to register for this class. This deposit is non-refundable\, but is transferable to other class offerings if the student needs to cancel. \nDESCRIPTION:\nThis class is designed for those with firearms experience\, or new shooters\, who are looking to apply for their Florida Concealed Weapon License. This class is designed to cover all requirements in Florida Statue 790.06 to allow you to apply for your Florida Concealed Weapon License. There will be approximately 2 hours of class time and up to 1 hour of range time. \nNote: Constitutional Carry does require the same knowledge of the laws and safety\, which this class offers. \nIN THIS CLASS WE WILL COVER: \n\nBasic firearms safety\nMechanics of semi-automatic handguns and revolvers\nHow to safely load and unload firearms\nClearing common malfunctions and stoppages\nShooting fundamentals\nFlorida Gun Laws\nWhere you can and cannot carry\n\nWe provide the firearm and ammunition for this class. You do not need to bring a firearm or ammunition. \nALL STUDENTS WILL NEED: Eye and ear protection during the shooting portion; eye and ear protection are available for purchase at the range if needed. \nWe have bottled water and soda available for purchase at the range\, or you are welcome to bring your own to the class. \nPlease wear range appropriate attire. This includes closed-toed shoes\, shirt to the base of the neck (no low-cut or short-cut shirts)\, shorts or long pants.
URL:https://guncraftinc.com/event/constitutional-carry-concealed-weapon-license-class-56/
LOCATION:Gun Craft\, 2102 24th St. S.E.\, Ruskin\, FL\, 33570\, United States
END:VEVENT
BEGIN:VEVENT
DTSTART;TZID=UTC:20260314T173000
DTEND;TZID=UTC:20260314T173000
DTSTAMP:20260423T180105
CREATED:20260129T140007Z
LAST-MODIFIED:20260129T140007Z
UID:3778-1773509400-1773509400@guncraftinc.com
SUMMARY:Match Name: TSSA - Low Light League (Presented by Tampa Bay Photonics)
DESCRIPTION:Match Name: TSSA – Low Light League (Presented by Tampa Bay Photonics)\nPlatform: TSSA (Tactical Shooting Sports Association) Event Type: Low Light / Night Vision Match Sponsor: Presented by Tampa Bay Photonics\n1.0 Operational Overview\nOwn the night.\nThe TSSA Low Light League is a premier night fighting event designed to test your ability to navigate and engage targets in zero-light and low-light environments. This is a fully suppressed\, rifle-only match featuring 4-5 dynamic stages that mimic real-world night operations.\n    • Presented by Tampa Bay Photonics: We are proud to partner with Tampa Bay Photonics for this event. They will be hosting a dedicated Demo Stage\, allowing participants to demo high-end night vision optics and thermal imagers.\n    • The Demo Experience: This isn’t just a static display—you will have the opportunity to shoot live fire using their demo units. Competitors are also invited to bring their own suppressed pistols to utilize specifically during this demo portion.\n2.0 Divisions\nCompetitors must register for one of the two following divisions:\n    • WML (White Light): For competitors utilizing standard Weapon Mounted Lights.\n    • NVG (Night Vision): For competitors utilizing personal Night Vision Goggles and IR Lasers/Illuminators.\n3.0 Squading & Lighting Protocol\nPlease read carefully to ensure you get the experience you want.\n    • Default Stage Conditions: By default\, stages will be set up for White Light engagement (low ambient lighting/target illumination).\n    • The “NVG Protocol”: If a squad consists entirely of competitors with personal Night Vision (NVG Division)\, that squad may opt to run the stages in total darkness (IR only).\n    • Squading Strategy: If you possess personal NVGs and wish to run under full darkness\, you must squad together. Mixed squads (WML & NVG combined) will run under White Light conditions to ensure safety and target visibility for all shooters.\n4.0 Equipment Restrictions (STRICT)\nSafety and noise discipline are paramount for night operations.\n    • Rifle Match: The main stages are Rifle Only.\n    • Pistols: Suppressed pistols are permitted for use at the Demo Stage ONLY.\n    • Suppressors Mandatory: All firearms (Rifles and Demo Pistols) MUST BE SUPPRESSED. No unsuppressed fire is permitted after 6:00 PM.\n    • Illumination: You must have a method of target identification (WML or NVG/IR).\n5.0 Logistics & Schedule\nLOCATION Gun Craft 2102 24th St SE Ruskin\, FL 33570\nTIMELINE\n    • 05:30 PM: Check-In / Gear Inspection\n    • 05:45 PM: Safety Briefing (Mandatory)\n    • 06:00 PM: Range Hot / Lights Out\n    • 12:00 AM: Range Cold / Teardown\nREGISTRATION FEE\n    • Cost: $50.00\n    • Payment: Secure payment via Practiscore (Stripe) is required.\n6.0 Resource Requirements (Ammo)\nCompetitors are responsible for their own ammunition.\n    • Rifle: 150 Rounds (Minimum)\n    • Pistol (Optional): Bring pistol ammo if you intend to shoot the Demo Stage with your own sidearm.\n    • Note: We recommend bringing extra ammunition if you plan to extensively utilize the Tampa Bay Photonics demo stage.\n7.0 Rules & Safety\nThis match operates under the Official TSSA Rulebook with specific Low Light addendums.\n    • Positive ID: You must positively identify targets before engaging.\n    • Safety Indicators (Glowsticks): Glowsticks/Chemlights will be provided to all competitors. These must be used as personal visibility markers as directed by the ROs to ensure safe status is visible at all times.\n    • Cold Range: Firearms must remain unloaded\, tabled and cleared until under the direct supervision of an RO.\n8.0 Contact Information\nFor questions regarding equipment compatibility\, sponsorship\, or registration:\nJeremy Email: Jeremy@tssausa.com Phone: 239-851-2926
URL:https://guncraftinc.com/event/match-name-tssa-low-light-league-presented-by-tampa-bay-photonics-3/
END:VEVENT
END:VCALENDAR