BEGIN:VCALENDAR
VERSION:2.0
PRODID:-//Gun Craft - ECPv6.15.1.1//NONSGML v1.0//EN
CALSCALE:GREGORIAN
METHOD:PUBLISH
X-ORIGINAL-URL:https://guncraftinc.com
X-WR-CALDESC:Events for Gun Craft
REFRESH-INTERVAL;VALUE=DURATION:PT1H
X-Robots-Tag:noindex
X-PUBLISHED-TTL:PT1H
BEGIN:VTIMEZONE
TZID:UTC
BEGIN:STANDARD
TZOFFSETFROM:+0000
TZOFFSETTO:+0000
TZNAME:UTC
DTSTART:20260101T000000
END:STANDARD
END:VTIMEZONE
BEGIN:VEVENT
DTSTART;TZID=UTC:20260228T083000
DTEND;TZID=UTC:20260228T143000
DTSTAMP:20260423T175523
CREATED:20251031T164757Z
LAST-MODIFIED:20251218T163101Z
UID:3628-1772267400-1772289000@guncraftinc.com
SUMMARY:DEFCON Gun Club
DESCRIPTION:DEFCON Gun Club TACFIT \nAt its core\, TACFIT (Tactical Fitness) challenges athletes with a blend of physical fitness and shooting skills. Each stage involves strenuous activity combined with precision shooting. Whether you’re a public servant\, a competitive athlete\, or someone looking to test their endurance\, TACFIT provides an exciting and demanding platform to assess your abilities. \nExpect challenging workouts that will push you to your limits\, all in a supportive and motivating group environment. \nKey Components: \nEndurance: Participants face physically demanding scenarios that simulate real-world challenges. From pushing sleds to carrying heavy loads\, endurance plays a crucial role. \nMarksmanship: Accurate shooting under pressure is essential. Athletes engage targets while enduring physical stress\, adding an extra layer of complexity. \nStrength: TACFIT requires functional strength. Athletes must carry gear\, climb\, crawl\, and perform other physically demanding tasks. \nElite Competition Preparation: Elevate your physical prowess and marksmanship abilities for top-tier events like The Tactical Games\, The Patriot Games\, The Proving Grounds\, Green Beret Fitness challenges\, and a host of others. Master the game\, refine your techniques\, and seize victory from the competition. \nTailored for All: Whether you’re a novice or a seasoned competitor\, we cater to diverse fitness levels and aspirations. Recognizing individual differences\, we prioritize enjoyment; if a workout feels overwhelming or weights seem daunting\, don’t fret—tune into your body’s cues and adapt accordingly. \nContact: Jeremy Azinger (239-851-2926 | Jeremy@a-zshooting.com) \nhttps://www.defcongunclub.com/club/tactical-fitness\nDetails on Required Gear/Rules/Weights – please see our website
URL:https://guncraftinc.com/event/defcon-gun-club-2/
END:VEVENT
BEGIN:VEVENT
DTSTART;TZID=UTC:20260228T090000
DTEND;TZID=UTC:20260228T120000
DTSTAMP:20260423T175523
CREATED:20260114T162400Z
LAST-MODIFIED:20260114T162400Z
UID:3749-1772269200-1772280000@guncraftinc.com
SUMMARY:Pistol Accuracy with Bert Winfield
DESCRIPTION:PISTOL ACCURACY \n	Not sure why your hits aren’t going exactly where you want them or need them? Come join us for this skill builder class where we focus on the finer details of Accurate pistol shooting. Hollywood has made it look so easy to shoot a handgun\, almost as if the hero of the movie just never misses and the bullets are capable of magic. In reality we know there’s a great deal more that goes into it. During class we will be focusing on making you a more capable and accurate shooter. \nClass fee is $50.00\nClass length is 3 hours\nRange Fees must be paid by the student to the host range upon check in \nTopics will include:\nGrip\nTrigger Control\nSight alignment\, what it really is and isn’t\nStance\nBody Control\nAnd MANY more \nStudent Requirements:\nYour Handgun\n300 rounds of quality ammunition\nRange Safety equipment\nRange Appropriate attire\n1 spare magazine \nEventbrite Link: https://www.eventbrite.com/e/pistol-accuracy-tickets-1980558297182?aff=oddtdtcreator
URL:https://guncraftinc.com/event/pistol-accuracy-with-bert-winfield-2/
END:VEVENT
BEGIN:VEVENT
DTSTART;TZID=UTC:20260228T163000
DTEND;TZID=UTC:20260228T190000
DTSTAMP:20260423T175523
CREATED:20251105T172238Z
LAST-MODIFIED:20251105T172238Z
UID:3662-1772296200-1772305200@guncraftinc.com
SUMMARY:Monthly Defensive Pistol Drills
DESCRIPTION:Monthly Defensive Pistol Drills\nThese two-hour sessions provide an opportunity to keep your defensive pistol skills sharp. If you carry a gun as part of your normal daily routine\, these drill sessions are for you. Every drill is shot from concealment\, using your everyday carry gear on a dynamic range.\n•	Each session is comprised of very specific pistol drills\, focusing on a particular skill\n•	A new skill is presented and practiced each month\n•	Sessions have a round count of 50 or less\, so you get maximum training without excessive ammo expenditure.\n•	Some examples of topics covered are:\no	Multiple threat scenarios\no	Shooting from cover\no	Strong-hand only and weak-hand only shooting\no	Shooting and moving\no	Close contact shooting \nThis training is reserved for the Intermediate Level shooter. THIS IS NOT A BEGINNER’S COURSE. You must be able to run your gun safely and efficiently without assistance.\nPrerequisite skills required:\nA very high level of safe gun handling\, loading\, unloading\, clearing malfunctions\, and drawing safely from concealment.  \nPrice: $80 per session (Includes your range fee and targets)\nSafety Brief starts promptly at 5pm\nNo walk-ins\, reservations are required to attend\nContact Wes at ballisticdynamics@yahoo.com for reservations
URL:https://guncraftinc.com/event/monthly-defensive-pistol-drills-3/
END:VEVENT
END:VCALENDAR