BEGIN:VCALENDAR
VERSION:2.0
PRODID:-//Gun Craft - ECPv6.15.1.1//NONSGML v1.0//EN
CALSCALE:GREGORIAN
METHOD:PUBLISH
X-ORIGINAL-URL:https://guncraftinc.com
X-WR-CALDESC:Events for Gun Craft
REFRESH-INTERVAL;VALUE=DURATION:PT1H
X-Robots-Tag:noindex
X-PUBLISHED-TTL:PT1H
BEGIN:VTIMEZONE
TZID:UTC
BEGIN:STANDARD
TZOFFSETFROM:+0000
TZOFFSETTO:+0000
TZNAME:UTC
DTSTART:20250101T000000
END:STANDARD
END:VTIMEZONE
BEGIN:VEVENT
DTSTART;TZID=UTC:20251224T080000
DTEND;TZID=UTC:20251225T170000
DTSTAMP:20260423T231240
CREATED:20251216T154014Z
LAST-MODIFIED:20251216T154050Z
UID:3699-1766563200-1766682000@guncraftinc.com
SUMMARY:Closed for the Christmas Holiday - 24th and 25th
DESCRIPTION:
URL:https://guncraftinc.com/event/closed-for-the-christmas-holiday-24th-and-25th/
END:VEVENT
END:VCALENDAR