BEGIN:VCALENDAR
VERSION:2.0
PRODID:-//Gun Craft - ECPv6.15.1.1//NONSGML v1.0//EN
CALSCALE:GREGORIAN
METHOD:PUBLISH
X-ORIGINAL-URL:https://guncraftinc.com
X-WR-CALDESC:Events for Gun Craft
REFRESH-INTERVAL;VALUE=DURATION:PT1H
X-Robots-Tag:noindex
X-PUBLISHED-TTL:PT1H
BEGIN:VTIMEZONE
TZID:UTC
BEGIN:STANDARD
TZOFFSETFROM:+0000
TZOFFSETTO:+0000
TZNAME:UTC
DTSTART:20250101T000000
END:STANDARD
END:VTIMEZONE
BEGIN:VEVENT
DTSTART;TZID=UTC:20251213T170000
DTEND;TZID=UTC:20251213T210000
DTSTAMP:20260423T231230
CREATED:20251105T175855Z
LAST-MODIFIED:20251105T175931Z
UID:3672-1765645200-1765659600@guncraftinc.com
SUMMARY:Night Defender Low Light Pistol
DESCRIPTION:NIGHT DEFENDER LOW LIGHT PISTOL \nJoin us at Gun Craft for an adrenaline-pumping\, action-packed event like no other! Get ready to enhance your shooting skills in low light conditions. Our expert instructors will guide you through the techniques of using a pistol in the dark. Feel the thrill as you learn how to handle your firearm effectively when visibility is limited. This in-person event is perfect for intermediate and experienced shooters alike. Don’t miss out on this unique opportunity to become a night defender. Secure your spot now! \nIn class we will discuss the various light options that are available to shooters and how to choose one that fits you. We will discuss the pros and cons of using a handheld light or using a Weapon Mounted Light. \nOnce on the range we will begin with dryfire practice to work on the mechanics of deploying our chosen light while drawing our firearm\, shooting\, and moving in the dark\, reloading in the dark\, how to properly scan with our light and many more topics. \nSAFETY NOTE: This class is not for beginners. We will be doing dynamic techniques in the dark. You must know your firearm and its operation as well as your gear. There are no warnings for safety violations in this class\, any violation of safety hazards and you will no longer be permitted to participate in any live fire. You may stay and observe the rest of the class from behind the shooting line if you would like. Safety to yourself and other students is always paramount. \nTuition: $150.00 \nRange fees of $30.00 must be paid by the students directly to Gun Craft the day of class. \nRequired Equipment: \nFlashlight that you currently carry or plan to carry. Batteries or chargers for your flashlights. \nWeapon Mounted Lights are permitted as well. \nSturdy holster that retains its shape once the firearm is drawn and will accept your WML if you are using one. \nEye and Ear Protection \nBall cap \nQuality functional semi-automatic pistol or revolver. \nMicro or pocket pistols are permitted. \n300 rounds of ammunition minimum. More is better \n2 Magazines for Semi-Automatics. \nEnclosed shoes (No flip flops\, sandals or open toe shoes) \nCrew neck (T-shirt) or button up shirt (No low-cut neckline or tank tops) \nShorts are permitted \nRain gear and appropriate clothing for weather. \nHydration (water\, Gatorade\, etc.) \nEventbrite Link: https://www.eventbrite.com/e/night-defender-low-light-pistol-tickets-1963453492250?aff=oddtdtcreator
URL:https://guncraftinc.com/event/3672/
END:VEVENT
END:VCALENDAR