BEGIN:VCALENDAR
VERSION:2.0
PRODID:-//Gun Craft - ECPv6.15.1.1//NONSGML v1.0//EN
CALSCALE:GREGORIAN
METHOD:PUBLISH
X-ORIGINAL-URL:https://guncraftinc.com
X-WR-CALDESC:Events for Gun Craft
REFRESH-INTERVAL;VALUE=DURATION:PT1H
X-Robots-Tag:noindex
X-PUBLISHED-TTL:PT1H
BEGIN:VTIMEZONE
TZID:UTC
BEGIN:STANDARD
TZOFFSETFROM:+0000
TZOFFSETTO:+0000
TZNAME:UTC
DTSTART:20250101T000000
END:STANDARD
END:VTIMEZONE
BEGIN:VEVENT
DTSTART;TZID=UTC:20251212T090000
DTEND;TZID=UTC:20251212T170000
DTSTAMP:20260423T231239
CREATED:20251007T142519Z
LAST-MODIFIED:20251007T142519Z
UID:3615-1765530000-1765558800@guncraftinc.com
SUMMARY:NRA Basics of Pistol Shooting
DESCRIPTION:NRA Basics of Pistol Shooting \nNRA Basics of Pistol Shooting\nDate: Friday – Dec 12\, 2025\nTime: 9 AM thru 5 PM  \nEnjoy a relaxed and safe learning environment; the course includes classroom and live fire range sessions. This course teaches the basic knowledge\, skills\, and attitude necessary for owning and operating a pistol safely. Subjects covered: Safety\, Marksmanship\, Malfunctions\, Maintenance\, Storage\, and lots more. The course runs from 9am thru 5pm.\nStudents receives an NRA Basics of Pistol Shooting handbook\, a Guns Safety Rules card\, and the NRA’s Marksmanship Qualification Program booklet. Upon successful completion\, the student will receive a course completion certificate\, which satisfies the training requirement for the Florida Conceal Carry License application (FL §790.06(2)(h)).\nThis course is a pre-requisite for anyone seeking to become an NRA pistol instructor.\nRequired gear: handgun (caliber: 22LR ~ 45ACP)\, min 150 rounds\, 2 mags for semi-auto pistol\, eye and ear protection\, pencil\, notepad\, lunch. Appropriate clothing and footwear: (no tank tops\, low cuts\, no sandals\, etc. – hot brass has a way of falling where it shouldn’t).\nThe Sig Sauer P320 is not allowed in the course. **  Keep your ammo in your vehicle.\n* Tuition: $110  (Range Fee $30 – is paid separately & directly to Gun Craft) \nText or email with any related questions or to register.      * Courses available in Spanish  *   \nNelson Betancourt:  nelbet.is@gmail.com   * * *   703.509.1925\nNRA Certified: Training Counselor / Instructor – Pistol\, Rifle\, Shotgun\, CCW\, Def Pistol\nNRA Certified: Chief Range Safety Officer\nRangemaster Certified Advanced Firearms Instructor
URL:https://guncraftinc.com/event/nra-basics-of-pistol-shooting/
END:VEVENT
END:VCALENDAR