BEGIN:VCALENDAR
VERSION:2.0
PRODID:-//Gun Craft - ECPv6.15.1.1//NONSGML v1.0//EN
CALSCALE:GREGORIAN
METHOD:PUBLISH
X-WR-CALNAME:Gun Craft
X-ORIGINAL-URL:https://guncraftinc.com
X-WR-CALDESC:Events for Gun Craft
REFRESH-INTERVAL;VALUE=DURATION:PT1H
X-Robots-Tag:noindex
X-PUBLISHED-TTL:PT1H
BEGIN:VTIMEZONE
TZID:UTC
BEGIN:STANDARD
TZOFFSETFROM:+0000
TZOFFSETTO:+0000
TZNAME:UTC
DTSTART:20250101T000000
END:STANDARD
END:VTIMEZONE
BEGIN:VEVENT
DTSTART;TZID=UTC:20251129T083000
DTEND;TZID=UTC:20251129T143000
DTSTAMP:20260424T003931
CREATED:20251031T182847Z
LAST-MODIFIED:20251031T182847Z
UID:3652-1764405000-1764426600@guncraftinc.com
SUMMARY:DEFCON Gun Club
DESCRIPTION:DEFCON Gun Club TACFIT \nAt its core\, TACFIT (Tactical Fitness) challenges athletes with a blend of physical fitness and shooting skills. Each stage involves strenuous activity combined with precision shooting. Whether you’re a public servant\, a competitive athlete\, or someone looking to test their endurance\, TACFIT provides an exciting and demanding platform to assess your abilities. \nExpect challenging workouts that will push you to your limits\, all in a supportive and motivating group environment. \nKey Components: \nEndurance: Participants face physically demanding scenarios that simulate real-world challenges. From pushing sleds to carrying heavy loads\, endurance plays a crucial role. \nMarksmanship: Accurate shooting under pressure is essential. Athletes engage targets while enduring physical stress\, adding an extra layer of complexity. \nStrength: TACFIT requires functional strength. Athletes must carry gear\, climb\, crawl\, and perform other physically demanding tasks. \nElite Competition Preparation: Elevate your physical prowess and marksmanship abilities for top-tier events like The Tactical Games\, The Patriot Games\, The Proving Grounds\, Green Beret Fitness challenges\, and a host of others. Master the game\, refine your techniques\, and seize victory from the competition. \nTailored for All: Whether you’re a novice or a seasoned competitor\, we cater to diverse fitness levels and aspirations. Recognizing individual differences\, we prioritize enjoyment; if a workout feels overwhelming or weights seem daunting\, don’t fret—tune into your body’s cues and adapt accordingly. \nContact: Jeremy Azinger (239-851-2926 | Jeremy@a-zshooting.com)\nMiles Scott (813-203-4480 | kilometergram@gmail.com)\nhttps://www.defcongunclub.com/club/tactical-fitness\nDetails on Required Gear/Rules/Weights – please see our website
URL:https://guncraftinc.com/event/defcon-gun-club-14/
END:VEVENT
BEGIN:VEVENT
DTSTART;TZID=UTC:20251129T090000
DTEND;TZID=UTC:20251129T153000
DTSTAMP:20260424T003931
CREATED:20250624T163114Z
LAST-MODIFIED:20250624T163114Z
UID:3342-1764406800-1764430200@guncraftinc.com
SUMMARY:Defensive Revolver by Valley Defense
DESCRIPTION:Defensive Revolver \nThe course is designed for those who depend specifically on a revolver as their primary defensive weapon. The course covers everything from muzzle contact to extended range engagements. You will work on various loading techniques. Cross draw and shoulder holsters are NOT acceptable for this class\, however their viability will be discussed. Participants should (if they have one bring a secondary/hideout/back up) revolver. If it is different caliber than main revolver bring 50 rounds for it. \nIf that revolving handgun has been collecting dust in the safe\, dig it out and let’s work with it! The revolver is still and always will be a viable defensive weapon. \nEquipment Needed:\n* 300 rounds-primary gun\n* 50 rounds- secondary gun\, if available\n* Good solid belt and solid IWB/OWB holster\n* 6-10 speed loaders/pouches if available\n* If using moon clips 10-12 clips plus tools to reload\n* Small screw driver\n*safety gear- brimmed hat/eye + ear pro/closed toe shoes and any other weather appropriate clothing \nCourse Tuition: $265 \nSign up – www.valleydefense.com \nemail – training@valleydefense.com
URL:https://guncraftinc.com/event/defensive-revolver-by-valley-defense/
END:VEVENT
END:VCALENDAR