BEGIN:VCALENDAR
VERSION:2.0
PRODID:-//Gun Craft - ECPv6.15.1.1//NONSGML v1.0//EN
CALSCALE:GREGORIAN
METHOD:PUBLISH
X-ORIGINAL-URL:https://guncraftinc.com
X-WR-CALDESC:Events for Gun Craft
REFRESH-INTERVAL;VALUE=DURATION:PT1H
X-Robots-Tag:noindex
X-PUBLISHED-TTL:PT1H
BEGIN:VTIMEZONE
TZID:UTC
BEGIN:STANDARD
TZOFFSETFROM:+0000
TZOFFSETTO:+0000
TZNAME:UTC
DTSTART:20250101T000000
END:STANDARD
END:VTIMEZONE
BEGIN:VEVENT
DTSTART;TZID=UTC:20251125T080000
DTEND;TZID=UTC:20251128T170000
DTSTAMP:20260424T020123
CREATED:20251002T133026Z
LAST-MODIFIED:20251002T133026Z
UID:3612-1764057600-1764349200@guncraftinc.com
SUMMARY:Closed Thanksgiving Week
DESCRIPTION:We will be closed at the end of the day\, Saturday the 22n\, and will reopen on Saturday the 29th of November. \nWishing all a wonderful week and looking forward to seeing you when we return.
URL:https://guncraftinc.com/event/closed-thanksgiving-week/
END:VEVENT
END:VCALENDAR