BEGIN:VCALENDAR
VERSION:2.0
PRODID:-//Gun Craft - ECPv6.15.1.1//NONSGML v1.0//EN
CALSCALE:GREGORIAN
METHOD:PUBLISH
X-ORIGINAL-URL:https://guncraftinc.com
X-WR-CALDESC:Events for Gun Craft
REFRESH-INTERVAL;VALUE=DURATION:PT1H
X-Robots-Tag:noindex
X-PUBLISHED-TTL:PT1H
BEGIN:VTIMEZONE
TZID:UTC
BEGIN:STANDARD
TZOFFSETFROM:+0000
TZOFFSETTO:+0000
TZNAME:UTC
DTSTART:20250101T000000
END:STANDARD
END:VTIMEZONE
BEGIN:VEVENT
DTSTART;TZID=UTC:20251111T083000
DTEND;TZID=UTC:20251111T173000
DTSTAMP:20260424T031801
CREATED:20250611T191737Z
LAST-MODIFIED:20250611T191737Z
UID:3323-1762849800-1762882200@guncraftinc.com
SUMMARY:Spend Veterans Day on the Range - Open Regular Hours!!!!
DESCRIPTION:
URL:https://guncraftinc.com/event/spend-veterans-day-on-the-range-open-regular-hours/
END:VEVENT
END:VCALENDAR