BEGIN:VCALENDAR
VERSION:2.0
PRODID:-//Gun Craft - ECPv6.15.1.1//NONSGML v1.0//EN
CALSCALE:GREGORIAN
METHOD:PUBLISH
X-WR-CALNAME:Gun Craft
X-ORIGINAL-URL:https://guncraftinc.com
X-WR-CALDESC:Events for Gun Craft
REFRESH-INTERVAL;VALUE=DURATION:PT1H
X-Robots-Tag:noindex
X-PUBLISHED-TTL:PT1H
BEGIN:VTIMEZONE
TZID:UTC
BEGIN:STANDARD
TZOFFSETFROM:+0000
TZOFFSETTO:+0000
TZNAME:UTC
DTSTART:20250101T000000
END:STANDARD
END:VTIMEZONE
BEGIN:VEVENT
DTSTART;TZID=UTC:20251025T130000
DTEND;TZID=UTC:20251025T160000
DTSTAMP:20260424T020832
CREATED:20241101T165654Z
LAST-MODIFIED:20250723T133439Z
UID:3128-1761397200-1761408000@guncraftinc.com
SUMMARY:Constitutional Carry/Concealed Weapon License Class
DESCRIPTION:DATE: Saturday October 25\, 2025\nTIME:   1PM – 4PM\nCOST: $60*\nTO REGISTER: Call or email Gun Craft at 813-645-3828 or guncraftinc@live.com\n→ Click HERE to follow us on Facebook ← \n→ Click HERE to follow us on Instagram ← \n*A 50% deposit is required to register for this class. This deposit is non-refundable\, but is transferable to other class offerings if the student needs to cancel. \nDESCRIPTION:\nThis class is designed for those with firearms experience\, or new shooters\, who are looking to apply for their Florida Concealed Weapon License. This class is designed to cover all requirements in Florida Statue 790.06 to allow you to apply for your Florida Concealed Weapon License. There will be approximately 2 hours of class time and up to 1 hour of range time. \nNote: Constitutional Carry does require the same knowledge of the laws and safety\, which this class offers. \nIN THIS CLASS WE WILL COVER: \n\nBasic firearms safety\nMechanics of semi-automatic handguns and revolvers\nHow to safely load and unload firearms\nClearing common malfunctions and stoppages\nShooting fundamentals\nFlorida Gun Laws\nWhere you can and cannot carry\n\nWe provide the firearm and ammunition for this class. You do not need to bring a firearm or ammunition. \nALL STUDENTS WILL NEED: Eye and ear protection during the shooting portion; eye and ear protection are available for purchase at the range if needed. \nWe have bottled water and soda available for purchase at the range\, or you are welcome to bring your own to the class. \nPlease wear range appropriate attire. This includes closed-toed shoes\, shirt to the base of the neck (no low-cut or short-cut shirts)\, shorts or long pants.
URL:https://guncraftinc.com/event/constitutional-carry-concealed-weapon-license-class-49/
LOCATION:Gun Craft\, 2102 24th St. S.E.\, Ruskin\, FL\, 33570\, United States
END:VEVENT
BEGIN:VEVENT
DTSTART;TZID=UTC:20251025T140000
DTEND;TZID=UTC:20251025T170000
DTSTAMP:20260424T020832
CREATED:20250521T131645Z
LAST-MODIFIED:20250521T131645Z
UID:3289-1761400800-1761411600@guncraftinc.com
SUMMARY:Pistol 1 with Love Firearms
DESCRIPTION:Pistol One Class  \nThe class is recommended for students that have little to no firearms experience. Students can expect to learn important but basic firearms skills that will help them to be safe and responsible firearms owners.\n1. The Four Universal Firearm Safety Rules.\n2. Clearing and Loading Semi-Automatic Handguns.\n3. Understanding Semi-Automatic Handgun firing action.\n4. Field stripping and cleaning Semi-Automatic handguns.\n5. Semi-Automatic Handgun Ammunition types.\n6. Creating a personal training program.\n7. Dry firing Semi-Automatic Handguns.\n8. The four Semi-Automatic handgun shooting principles.\n9. Semi-Automatic Handgun shooting fundamentals drill.\nThe cost for the class is $90  *** Students are responsible for range fees.\nStudents are encouraged to register at lovefirearms.com.\nStudents are required to be dressed appropriately (Tee shirts and closed toes shoes e.g. sneakers and or boots) to shoot on the range.\nStudents should bring eye and ear protection if they have it.\nStudents should bring 50 – 100 rounds of 9mm (9×19 Luger) 115 GR FMJ (Full Metal Jacket) Training ammunition.\nPlease direct any concerns or questions to the instructor at info@lovefirearms.com
URL:https://guncraftinc.com/event/pistol-1-with-love-firearms-16/
END:VEVENT
BEGIN:VEVENT
DTSTART;TZID=UTC:20251025T170000
DTEND;TZID=UTC:20251025T190000
DTSTAMP:20260424T020832
CREATED:20241213T173549Z
LAST-MODIFIED:20251014T132818Z
UID:3175-1761411600-1761418800@guncraftinc.com
SUMMARY:CANCELLED - Monthly Defensive Pistol Drills with Wesley Senn
DESCRIPTION:Monthly Defensive Pistol Drills \nThese two-hour sessions provide an opportunity to keep your defensive pistol skills sharp. If you carry a gun as part of your normal daily routine\, these drill sessions are for you. Every drill is shot from concealment\, using your everyday carry gear on a dynamic range. \n\nEach session is comprised of very specific pistol drills\, focusing on a particular skill\nA new skill is presented and practiced each month\nSessions have a round count of 50 or less\, so you get maximum training without excessive ammo expenditure.\nSome examples of topics covered are:\n\nMultiple threat scenarios\nShooting at increased speed\nHome defense skills\nShooting from cover\nStrong-hand only and weak-hand only shooting\nShooting and moving\n\n\n\n  \nThis training is reserved for the Intermediate Level shooter. THIS IS NOT A BEGINNER’S COURSE. You must be able to run your gun safely and efficiently without assistance. \nPrerequisite skills required: \nA very high level of safe gun handling\, loading\, unloading\, clearing malfunctions\, and drawing safely from concealment. \n  \nPrice: $80 per session (Includes your range fee and targets) \nSafety Brief starts promptly at 5pm \nNo walk-ins\, reservations are required to attend \nContact Wes at ballisticdynamics@yahoo.com for reservations
URL:https://guncraftinc.com/event/monthly-defensive-pistol-drills-with-wesley-senn-30/
END:VEVENT
END:VCALENDAR