BEGIN:VCALENDAR
VERSION:2.0
PRODID:-//Gun Craft - ECPv6.15.1.1//NONSGML v1.0//EN
CALSCALE:GREGORIAN
METHOD:PUBLISH
X-WR-CALNAME:Gun Craft
X-ORIGINAL-URL:https://guncraftinc.com
X-WR-CALDESC:Events for Gun Craft
REFRESH-INTERVAL;VALUE=DURATION:PT1H
X-Robots-Tag:noindex
X-PUBLISHED-TTL:PT1H
BEGIN:VTIMEZONE
TZID:UTC
BEGIN:STANDARD
TZOFFSETFROM:+0000
TZOFFSETTO:+0000
TZNAME:UTC
DTSTART:20250101T000000
END:STANDARD
END:VTIMEZONE
BEGIN:VEVENT
DTSTART;TZID=UTC:20251018T083000
DTEND;TZID=UTC:20251018T143000
DTSTAMP:20260424T020834
CREATED:20250523T182629Z
LAST-MODIFIED:20250523T182629Z
UID:3306-1760776200-1760797800@guncraftinc.com
SUMMARY:TACFIT with Defcon
DESCRIPTION:What is TACFIT? \nAt its core\, TACFIT (Tactical Fitness) challenges athletes with a blend of physical fitness and shooting skills. Each stage involves strenuous activity combined with precision shooting. Whether you’re a public servant\, a competitive athlete\, or someone looking to test their endurance\, TACFIT provides an exciting and demanding platform to asses your abilities. \nExpect challenging workouts that will push you to your limits\, all in a supportive and motivating group environment. \nKey Components: \nEndurance: Participants face physically demanding scenarios that simulate real-world challenges. From pushing sleds to carrying heavy loads\, endurance plays a crucial role. \nMarksmanship: Accurate shooting under pressure is essential. Athletes engage targets while enduring physical stress\, adding an extra layer of complexity. \nStrength: TACFIT requires functional strength. Athletes must carry gear\, climb\, crawl\, and perform other physically demanding tasks. \nElite Competition Preparation: Elevate your physical prowess and marksmanship abilities for top-tier events like The Tactical Games\, The Patriot Games\, The Proving Grounds\, Green Beret Fitness challenges\, and a host of others. Master the game\, refine your techniques\, and seize victory from the competition. \nTailored for All: Whether you’re a novice or a seasoned competitor\, we cater to diverse fitness levels and aspirations. Recognizing individual differences\, we prioritize enjoyment; if a workout feels overwhelming or weights seem daunting\, don’t fret—tune into your body’s cues and adapt accordingly. \nFor additional information – 239-851-2924  or email Jeremy@a-zshooting.com
URL:https://guncraftinc.com/event/tacfit-with-defcon-2/
END:VEVENT
BEGIN:VEVENT
DTSTART;TZID=UTC:20251018T090000
DTEND;TZID=UTC:20251018T120000
DTSTAMP:20260424T020834
CREATED:20250815T143825Z
LAST-MODIFIED:20250815T143825Z
UID:3582-1760778000-1760788800@guncraftinc.com
SUMMARY:Situational Awareness Workshop with Wes Senn
DESCRIPTION:Situational Awareness Workshop\nThis 3-hour class will inform you and equip you with the knowledge you need to see potential threats long before you need to react to them. Personal defense starts well before the need for defensive tactics or lethal force arises. Understanding the importance of a high level of awareness can prevent getting into a negative situation in the first place. Learn how to control your environment and how to react when necessary. This course is just as essential for those who choose NOT to carry a firearm\, as it is for those who do. The workshop culminates in a practical application exercise where students can put what they have learned into action.\nSome topics covered include:\n•	Risk mitigation\n•	Recognizing anomalies\n•	Identifying body language indicators\n•	Awareness in various everyday situations\n•	Responses to potential threats\n•	Much more \nPrice: $60\nNo walk-ins\, reservations are required to attend\nVisit the website to register www.ballistic-consulting.com\nOr contact Wes at ballisticdynamics@yahoo.com for reservations
URL:https://guncraftinc.com/event/situational-awareness-workshop-with-wes-senn-2/
END:VEVENT
END:VCALENDAR