BEGIN:VCALENDAR
VERSION:2.0
PRODID:-//Gun Craft - ECPv6.15.1.1//NONSGML v1.0//EN
CALSCALE:GREGORIAN
METHOD:PUBLISH
X-ORIGINAL-URL:https://guncraftinc.com
X-WR-CALDESC:Events for Gun Craft
REFRESH-INTERVAL;VALUE=DURATION:PT1H
X-Robots-Tag:noindex
X-PUBLISHED-TTL:PT1H
BEGIN:VTIMEZONE
TZID:UTC
BEGIN:STANDARD
TZOFFSETFROM:+0000
TZOFFSETTO:+0000
TZNAME:UTC
DTSTART:20250101T000000
END:STANDARD
END:VTIMEZONE
BEGIN:VEVENT
DTSTART;TZID=UTC:20250830T083000
DTEND;TZID=UTC:20250830T143000
DTSTAMP:20260424T062435
CREATED:20250628T150604Z
LAST-MODIFIED:20250628T150604Z
UID:3353-1756542600-1756564200@guncraftinc.com
SUMMARY:Tactical Fitness – Training Event “Stress Shoot” with DEFCON
DESCRIPTION:Tactical Fitness – Training Event “Stress Shoot”\nCost: $50\nRound Count: 100 Pistol / 60 Rifle \nJoin us for a dynamic Tactical Fitness training event designed to simulate real-world defensive and offensive scenarios. This is a preparation-focused event\, ideal for sharpening your skills before stepping into high-level competitions like the Tactical Games. \nEvent Highlights: \nFitness + Fire: Begin each drill with high-intensity fitness\, followed by a live-fire shooting stage. \nSkill-Building Relays: Challenge yourself against the clock and improve your performance through structured\, competitive relays. \nBeginner Friendly: New to dynamic shooting? Warm up with hands-on instruction from a certified firearms instructor before the main event. \nSchedule: \nMandatory Safety Briefing: Starts at 9:00 AM. Please arrive 15–30 minutes early to check in. \nAdditional Info: \nFirearms & Ammo: Available to rent for an additional fee. \nWhat to Bring: Eye and ear protection required. Tactical gear is encouraged—train like you fight. \nStay Ready: Water provided. Bring sunscreen\, bug spray\, extra hydration\, and snacks. \nContact: jeremy@a-zshooting.com – 239-851-2926\nRegistration: Reserve your spot now at PractiScore
URL:https://guncraftinc.com/event/tactical-fitness-training-event-stress-shoot-with-defcon/
END:VEVENT
BEGIN:VEVENT
DTSTART;TZID=UTC:20250830T083000
DTEND;TZID=UTC:20250830T170000
DTSTAMP:20260424T062435
CREATED:20250806T170847Z
LAST-MODIFIED:20250806T170847Z
UID:3572-1756542600-1756573200@guncraftinc.com
SUMMARY:NRA Basic CCW with Nelson Betancourt
DESCRIPTION:Enjoy a relaxed and safe learning environment; the course includes classroom and live fire range sessions. This course teaches the basic knowledge\, skills\, and attitude necessary to carry a concealed pistol for personal protection. Subjects covered: Safety\, Drawing from Concealment\, Loading and Stoppage Remediation\, Mindset\, and lots more. The course runs from 8:30am thru 5:15pm (approx.).\nStudents receives two NRA student handbooks\, a Guns Safety Rules card\, and the NRA’s Marksmanship Qualification Program booklet. Upon successful completion\, the student will receive a course completion certificate\, which satisfies the training requirement for the Florida Conceal Carry License application (FL §790.06(2)(h)).\nThis course is a pre-requisite for anyone seeking to become an NRA CCW instructor.\nEmail or text Nelson for detailed course and tuition information; and registration link.\n* Range Fee paid separately and directly to Gun Craft \nNelson Betancourt:  nelbet.is@gmail.com   * * *   703.509.1925\nNRA Certified: Training Counselor / Instructor – Pistol\, Rifle\, Shotgun\, (+)\nNRA Certified: Chief Range Safety Officer\nRangemaster Certified Advanced Firearms Instructor\n* Courses available in Spanish  *
URL:https://guncraftinc.com/event/nra-basic-ccw-with-nelson-betancourt/
END:VEVENT
BEGIN:VEVENT
DTSTART;TZID=UTC:20250830T100000
DTEND;TZID=UTC:20250830T140000
DTSTAMP:20260424T062435
CREATED:20250820T184151Z
LAST-MODIFIED:20250820T184151Z
UID:3586-1756548000-1756562400@guncraftinc.com
SUMMARY:CCW Course with Battleground Faith
DESCRIPTION:CCW Course with Battleground Faith \nThe CCW class will consist of classroom training regarding state law\, safe concealed carry options and procedures. We will discuss your legal rights and legal considerations\, and what to expect in the aftermath of a use of force. We will end the day with time on the range\, drawing from the holster and working on weapon manipulation. This course meets all the requirements for you to obtain your Florida CCW certification. \nCost for the class:\n$150 \nGun Craft range fee:\n$30 \nCourse date: August 30th\nClass room instruction 10:00am to 12:00pm\nLunch break  12:00pm to 1:00 pm\nRange 1:00pm to 2:00pm \nContact Battleground Faith to sign up\nPhone: (820)208-7986\nEmail: Battlegroundfaith@gmail.com
URL:https://guncraftinc.com/event/ccw-course-with-battleground-faith/
END:VEVENT
BEGIN:VEVENT
DTSTART;TZID=UTC:20250830T140000
DTEND;TZID=UTC:20250830T170000
DTSTAMP:20260424T062435
CREATED:20250521T131519Z
LAST-MODIFIED:20250521T131519Z
UID:3293-1756562400-1756573200@guncraftinc.com
SUMMARY:Pistol 1 with Love Firearms
DESCRIPTION:Pistol One Class  \nThe class is recommended for students that have little to no firearms experience. Students can expect to learn important but basic firearms skills that will help them to be safe and responsible firearms owners.\n1. The Four Universal Firearm Safety Rules.\n2. Clearing and Loading Semi-Automatic Handguns.\n3. Understanding Semi-Automatic Handgun firing action.\n4. Field stripping and cleaning Semi-Automatic handguns.\n5. Semi-Automatic Handgun Ammunition types.\n6. Creating a personal training program.\n7. Dry firing Semi-Automatic Handguns.\n8. The four Semi-Automatic handgun shooting principles.\n9. Semi-Automatic Handgun shooting fundamentals drill.\nThe cost for the class is $90  *** Students are responsible for range fees.\nStudents are encouraged to register at lovefirearms.com.\nStudents are required to be dressed appropriately (Tee shirts and closed toes shoes e.g. sneakers and or boots) to shoot on the range.\nStudents should bring eye and ear protection if they have it.\nStudents should bring 50 – 100 rounds of 9mm (9×19 Luger) 115 GR FMJ (Full Metal Jacket) Training ammunition.\nPlease direct any concerns or questions to the instructor at info@lovefirearms.com
URL:https://guncraftinc.com/event/pistol-1-with-love-firearms-14/
END:VEVENT
BEGIN:VEVENT
DTSTART;TZID=UTC:20250830T143000
DTEND;TZID=UTC:20250830T163000
DTSTAMP:20260424T062435
CREATED:20250820T182937Z
LAST-MODIFIED:20250820T182937Z
UID:3584-1756564200-1756571400@guncraftinc.com
SUMMARY:Fundamentals of Handgun Accuracy with Battleground Faith
DESCRIPTION:Fundamentals of Handgun Accuracy with Battleground Faith \nThis course will focus on basic concepts that improve target accuracy\, commonly referred to as marksmanship. We will shoot from various distances while employing the same concepts of grip\, stance\, sight picture\, breathing\, and trigger press. At the conclusion of this training course you will leave with a greater competence and confidence in your marksmanship skill set.  \nCost for the course:\n$70 \nGun craft range fee: $30 \nCourse date: August 30th\nClass room instruction 2:30pm to 4:30pm \nContact Battleground Faith to sign up.\nPhone: (802) 208-7986\nEmail: Battlegroundfaith@gmail.com
URL:https://guncraftinc.com/event/fundamentals-of-handgun-accuracy-with-battleground-faith/
END:VEVENT
END:VCALENDAR