BEGIN:VCALENDAR
VERSION:2.0
PRODID:-//Gun Craft - ECPv6.15.1.1//NONSGML v1.0//EN
CALSCALE:GREGORIAN
METHOD:PUBLISH
X-WR-CALNAME:Gun Craft
X-ORIGINAL-URL:https://guncraftinc.com
X-WR-CALDESC:Events for Gun Craft
REFRESH-INTERVAL;VALUE=DURATION:PT1H
X-Robots-Tag:noindex
X-PUBLISHED-TTL:PT1H
BEGIN:VTIMEZONE
TZID:UTC
BEGIN:STANDARD
TZOFFSETFROM:+0000
TZOFFSETTO:+0000
TZNAME:UTC
DTSTART:20250101T000000
END:STANDARD
END:VTIMEZONE
BEGIN:VEVENT
DTSTART;TZID=UTC:20250823T090000
DTEND;TZID=UTC:20250823T170000
DTSTAMP:20260424T062252
CREATED:20250625T180055Z
LAST-MODIFIED:20250625T180055Z
UID:3345-1755939600-1755968400@guncraftinc.com
SUMMARY:NRA Basics of Pistol Shooting with Nelson Bentancourt
DESCRIPTION:NRA Basics of Pistol Shooting \nNRA Basics of Pistol Shooting Date: Saturday – August 23\, 2025 Time: 9 AM thru 5 PM Tuition: $140 \nEnjoy a relaxed and safe learning environment; the course includes classroom and live fire range sessions. This course teaches the basic knowledge\, skills\, and attitude necessary for owning and operating a pistol safely. Subjects covered: Safety\, Marksmanship\, Malfunctions\, Maintenance\, Storage\, and lots more. The course runs from 9am thru 5pm. \nStudents receives an NRA Basics of Pistol Shooting handbook\, a Guns Safety Rules card\, and the NRA’s Marksmanship Qualification Program booklet. Upon successful completion\, the student will receive a course completion certificate\, which satisfies the training requirement for the Florida Conceal Carry License application (FL §790.06(2)(h)). \nThis course is a pre-requisite for anyone seeking to become an NRA pistol instructor. \nRequired gear: handgun (caliber: 22LR ~ 45ACP)\, min 150 rounds\, 2 mags for semi-auto pistol\, eye and ear protection\, pencil\, notepad\, lunch. Appropriate clothing and footwear: (no tank tops\, low cuts\, no sandals\, etc. – hot brass has a way of falling where it shouldn’t). Keep your ammo in your vehicle. \n* Range fee is included in the tuition. Text or email with any related questions or to register. * Courses available in Spanish * Nelson Betancourt: nelbet.is@gmail.com * * * 703.509.1925 NRA Certified: Training Counselor / Instructor – Pistol\, Rifle\, Shotgun\, CCW\, Def P\, PPITH\, PPOTH\, HFS\, RTBAV\, CRSO\, RSO NRA Certified: Chief Range Safety Officer Rangemaster Certified Advanced Firearms Instructor
URL:https://guncraftinc.com/event/nra-basics-of-pistol-shooting-with-nelson-bentancourt/
END:VEVENT
BEGIN:VEVENT
DTSTART;TZID=UTC:20250823T130000
DTEND;TZID=UTC:20250823T160000
DTSTAMP:20260424T062252
CREATED:20241101T165335Z
LAST-MODIFIED:20250723T132650Z
UID:3120-1755954000-1755964800@guncraftinc.com
SUMMARY:Constitutional Carry/Concealed Weapon License Class
DESCRIPTION:DATE: Saturday August 23\, 2025\nTIME:   1PM – 4PM\nCOST: $60*\nTO REGISTER: Call or email Gun Craft at 813-645-3828 or guncraftinc@live.com\n→ Click HERE to follow us on Facebook ← \n→ Click HERE to follow us on Instagram ← \n*A 50% deposit is required to register for this class. This deposit is non-refundable\, but is transferable to other class offerings if the student needs to cancel. \nDESCRIPTION:\nThis class is designed for those with firearms experience\, or new shooters\, who are looking to apply for their Florida Concealed Weapon License. This class is designed to cover all requirements in Florida Statue 790.06 to allow you to apply for your Florida Concealed Weapon License. There will be approximately 2 hours of class time and up to 1 hour of range time. \nNote: Constitutional Carry does require the same knowledge of the laws and safety\, which this class offers. \nIN THIS CLASS WE WILL COVER: \n\nBasic firearms safety\nMechanics of semi-automatic handguns and revolvers\nHow to safely load and unload firearms\nClearing common malfunctions and stoppages\nShooting fundamentals\nFlorida Gun Laws\nWhere you can and cannot carry\n\nWe provide the firearm and ammunition for this class. You do not need to bring a firearm or ammunition. \nALL STUDENTS WILL NEED: Eye and ear protection during the shooting portion; eye and ear protection are available for purchase at the range if needed. \nWe have bottled water and soda available for purchase at the range\, or you are welcome to bring your own to the class. \nPlease wear range appropriate attire. This includes closed-toed shoes\, shirt to the base of the neck (no low-cut or short-cut shirts)\, shorts or long pants.
URL:https://guncraftinc.com/event/constitutional-carry-concealed-weapon-license-class-45/
LOCATION:Gun Craft\, 2102 24th St. S.E.\, Ruskin\, FL\, 33570\, United States
END:VEVENT
BEGIN:VEVENT
DTSTART;TZID=UTC:20250823T170000
DTEND;TZID=UTC:20250823T190000
DTSTAMP:20260424T062252
CREATED:20241213T173410Z
LAST-MODIFIED:20250122T141100Z
UID:3171-1755968400-1755975600@guncraftinc.com
SUMMARY:Monthly Defensive Pistol Drills with Wesley Senn
DESCRIPTION:Monthly Defensive Pistol Drills \nThese two-hour sessions provide an opportunity to keep your defensive pistol skills sharp. If you carry a gun as part of your normal daily routine\, these drill sessions are for you. Every drill is shot from concealment\, using your everyday carry gear on a dynamic range. \n\nEach session is comprised of very specific pistol drills\, focusing on a particular skill\nA new skill is presented and practiced each month\nSessions have a round count of 50 or less\, so you get maximum training without excessive ammo expenditure.\nSome examples of topics covered are:\n\nMultiple threat scenarios\nShooting at increased speed\nHome defense skills\nShooting from cover\nStrong-hand only and weak-hand only shooting\nShooting and moving\n\n\n\n  \nThis training is reserved for the Intermediate Level shooter. THIS IS NOT A BEGINNER’S COURSE. You must be able to run your gun safely and efficiently without assistance. \nPrerequisite skills required: \nA very high level of safe gun handling\, loading\, unloading\, clearing malfunctions\, and drawing safely from concealment. \n  \nPrice: $80 per session (Includes your range fee and targets) \nSafety Brief starts promptly at 5pm \nNo walk-ins\, reservations are required to attend \nContact Wes at ballisticdynamics@yahoo.com for reservations
URL:https://guncraftinc.com/event/monthly-defensive-pistol-drills-with-wesley-senn-28/
END:VEVENT
END:VCALENDAR