BEGIN:VCALENDAR
VERSION:2.0
PRODID:-//Gun Craft - ECPv6.15.1.1//NONSGML v1.0//EN
CALSCALE:GREGORIAN
METHOD:PUBLISH
X-WR-CALNAME:Gun Craft
X-ORIGINAL-URL:https://guncraftinc.com
X-WR-CALDESC:Events for Gun Craft
REFRESH-INTERVAL;VALUE=DURATION:PT1H
X-Robots-Tag:noindex
X-PUBLISHED-TTL:PT1H
BEGIN:VTIMEZONE
TZID:UTC
BEGIN:STANDARD
TZOFFSETFROM:+0000
TZOFFSETTO:+0000
TZNAME:UTC
DTSTART:20250101T000000
END:STANDARD
END:VTIMEZONE
BEGIN:VEVENT
DTSTART;TZID=UTC:20250704T083000
DTEND;TZID=UTC:20250704T173000
DTSTAMP:20260424T074057
CREATED:20250611T184142Z
LAST-MODIFIED:20250611T184142Z
UID:3321-1751617800-1751650200@guncraftinc.com
SUMMARY:Open Regular Hours for the Office and Range - Come Celebrate your 2A Rights on the 4th of July with us!!!!!!
DESCRIPTION:
URL:https://guncraftinc.com/event/open-regular-hours-for-the-office-and-range-come-celebrate-your-2a-rights-on-the-4th-of-july-with-us/
END:VEVENT
END:VCALENDAR