BEGIN:VCALENDAR
VERSION:2.0
PRODID:-//Gun Craft - ECPv6.15.1.1//NONSGML v1.0//EN
CALSCALE:GREGORIAN
METHOD:PUBLISH
X-ORIGINAL-URL:https://guncraftinc.com
X-WR-CALDESC:Events for Gun Craft
REFRESH-INTERVAL;VALUE=DURATION:PT1H
X-Robots-Tag:noindex
X-PUBLISHED-TTL:PT1H
BEGIN:VTIMEZONE
TZID:UTC
BEGIN:STANDARD
TZOFFSETFROM:+0000
TZOFFSETTO:+0000
TZNAME:UTC
DTSTART:20250101T000000
END:STANDARD
END:VTIMEZONE
BEGIN:VEVENT
DTSTART;TZID=UTC:20250622T080000
DTEND;TZID=UTC:20250622T153000
DTSTAMP:20260424T090208
CREATED:20250520T140132Z
LAST-MODIFIED:20250520T140132Z
UID:3285-1750579200-1750606200@guncraftinc.com
SUMMARY:Summer Shootout 2025 - Tactical Fitness Competition - hosted by DEFCON Gun Club
DESCRIPTION:Summer Shootout 2025 – Tactical Fitness Competition \nHosted by DEFCON Gun Club \nDate: Sunday\, June 22\, 2025 \nTime: 8:00 AM – 3:30 PM \nLocation: GunCraft Inc. – 2102 24th St. S.E.\, Ruskin\, Florida 33570 \nEvent Description \nDefcon Gun Club proudly presents the Summer Shootout\, a one-day tactical fitness competition that combines physical endurance with live-fire marksmanship. This event is designed to challenge participants through a series of physically demanding tasks followed by precision shooting\, reflecting real-world tactical performance under stress. \nThe competition will consist of four unique stages. Competitors will be tested on their ability to perform under pressure\, combining physical exertion with shooting accuracy and speed. \nEach participant’s final score is determined by their stage completion times and performance. \nMatch Schedule \n07:30 AM – Registration Opens \n08:00 AM – Mandatory Safety Briefing \n08:15 AM – Match Begins \n03:30 PM – Match Concludes \n03:45 PM – Awards and Raffle \nAll competitors must attend the safety briefing to participate. The match will begin promptly at 8:15 AM. \nAmmunition Requirements \nCompetitors are required to bring the following minimum round counts: \n150 rounds – Pistol \n100 rounds – Rifle \nPlease ensure all equipment is in safe working condition. We will be shooting steel at this event\, so no Steel core ammo or armor piercing. \nT-Shirts and Registration Deadline \nThose who wish to receive an official Summer Shootout event T-shirt must complete registration by May 24\, 2025. Registrations after this date will not include a T-shirt. \nPrizes and Raffle \nThe Summer Shootout will feature a prize table valued at over $4\,000\, with awards for top finishers in the competition. All registered participants will also be entered into a raffle with opportunities to win additional gear\, accessories\, and sponsor-donated items. \nWe will also have a charity raffle for a large prize ($600+) with all proceeds going to Team RWB. \nFood and Vendor Area \nA variety of food trucks will be available on-site throughout the event\, offering meals and beverages for competitors and spectators. In addition\, there will be a vendor and sponsor booth area\, where attendees can explore products\, services\, and gear related to firearms\, fitness\, and tactical training. \nParticipant Requirements \nThis competition is intended for individuals who are physically capable and possess basic firearms handling skills. Each stage will include moderate to high-intensity physical activity followed immediately by live-fire shooting tasks. Participants are expected to follow all match rules and safety protocols at all times. \nAdditional Information \nFor updates\, registration details\, or further questions\, please visit our official registration page. \nhttps://practiscore.com/defcon-gun-club-summer-showdown-june-22-25/register \nSee you at the Summer Shootout.
URL:https://guncraftinc.com/event/summer-shootout-2025-tactical-fitness-competition-hosted-by-defcon-gun-club/
END:VEVENT
END:VCALENDAR