BEGIN:VCALENDAR
VERSION:2.0
PRODID:-//Gun Craft - ECPv6.15.1.1//NONSGML v1.0//EN
CALSCALE:GREGORIAN
METHOD:PUBLISH
X-ORIGINAL-URL:https://guncraftinc.com
X-WR-CALDESC:Events for Gun Craft
REFRESH-INTERVAL;VALUE=DURATION:PT1H
X-Robots-Tag:noindex
X-PUBLISHED-TTL:PT1H
BEGIN:VTIMEZONE
TZID:UTC
BEGIN:STANDARD
TZOFFSETFROM:+0000
TZOFFSETTO:+0000
TZNAME:UTC
DTSTART:20250101T000000
END:STANDARD
END:VTIMEZONE
BEGIN:VEVENT
DTSTART;VALUE=DATE:20250617
DTEND;VALUE=DATE:20250621
DTSTAMP:20260424T090205
CREATED:20240829T135044Z
LAST-MODIFIED:20240829T135044Z
UID:3052-1750118400-1750463999@guncraftinc.com
SUMMARY:Closed - Family Vacation
DESCRIPTION:
URL:https://guncraftinc.com/event/closed-family-vacation/
END:VEVENT
BEGIN:VEVENT
DTSTART;TZID=UTC:20250618T130000
DTEND;TZID=UTC:20250618T170000
DTSTAMP:20260424T090205
CREATED:20250531T204447Z
LAST-MODIFIED:20250531T204447Z
UID:3316-1750251600-1750266000@guncraftinc.com
SUMMARY:Conceal Carry and Basic Firearms Handling
DESCRIPTION:FLORIDA CCW AND BASIC FIREARMS HANDLING\nActive Measures Training |\nContact us at text (843) 709-8667 or mail john.activemeasures@gmail.com with you name and email address and we will forward Class Details / Registration info or follow instructions below.\n•	Includes Live Fire\n•	Permit Certification \no	Wed\, Jun. 18\, 2025 \n1:00 PM to 5:00 PM\n•	$100\n•	2102 24th St. SE Ruskin\, FL 33570\n•	In-Class Time\n2 Hour(s)\n•	Range Time\n2 Hour(s)\nCLICK THE LINK BELOW FOR ADDITIONAL INFO AND TO REGISTER FOR CLASS or COPY AND PASTE INTO THE ADDRESS BAR IF THE LINK DOES NOT WORK FOR YOU.\nhttps://www.usconcealedcarry.com/firearms-training/instructors/florida-instructors/active-measures-firearms-training-2432912/class-ruskin-fl-florida-ccw-and-basic-firearms-handling-b8aba/\nClass is limited to 6 students\nWhat You’ll Learn\nThis course will satisfy Florida CCW training requirements (Certificate Issued) and basic firearms handling\, marksmanship and introduction to reactive/instinct shooting.\nCancellation Policy: Students are required to cancel at least 48 hours in advance of a class date in order to receive a full refund. Classes cancelled less than 48 hours before the class will not be refunded.
URL:https://guncraftinc.com/event/conceal-carry-and-basic-firearms-handling/
END:VEVENT
END:VCALENDAR