BEGIN:VCALENDAR
VERSION:2.0
PRODID:-//Gun Craft - ECPv6.15.1.1//NONSGML v1.0//EN
CALSCALE:GREGORIAN
METHOD:PUBLISH
X-WR-CALNAME:Gun Craft
X-ORIGINAL-URL:https://guncraftinc.com
X-WR-CALDESC:Events for Gun Craft
REFRESH-INTERVAL;VALUE=DURATION:PT1H
X-Robots-Tag:noindex
X-PUBLISHED-TTL:PT1H
BEGIN:VTIMEZONE
TZID:UTC
BEGIN:STANDARD
TZOFFSETFROM:+0000
TZOFFSETTO:+0000
TZNAME:UTC
DTSTART:20250101T000000
END:STANDARD
END:VTIMEZONE
BEGIN:VEVENT
DTSTART;TZID=UTC:20250614T083000
DTEND;TZID=UTC:20250614T123000
DTSTAMP:20260424T090137
CREATED:20250408T130749Z
LAST-MODIFIED:20250408T130749Z
UID:3266-1749889800-1749904200@guncraftinc.com
SUMMARY:Armed Citizen - Advanced Course
DESCRIPTION:Armed Citizen – Advanced Course\nThis four-hour course will introduce the student to advanced concepts of defensive pistol use. Topics covered include:\nContact Distance Shooting\nUse of Cover\nOne Hand Manipulations\nReloading Techniques\nMultiple Threat Scenarios\nThis course is also a good intro for competition shooting.  \nThis training is reserved for the Intermediate Level shooter. THIS IS NOT A BEGINNER’S COURSE. You must be able to run your gun safely and efficiently without assistance.\nPrerequisite skills required:\nA very high level of safe gun handling\, loading\, unloading\, clearing malfunctions\, and drawing safely from concealment.  \nPrice: $150 (Tuition cost is due upon registration to reserve your spot)\nSafety Brief starts promptly at 8:30am\nNo walk-ins\, reservations are required to attend\nVisit website to register via the RSVP button  www.ballistic-consulting.com
URL:https://guncraftinc.com/event/armed-citizen-advanced-course/
END:VEVENT
BEGIN:VEVENT
DTSTART;TZID=UTC:20250614T123000
DTEND;TZID=UTC:20250614T163000
DTSTAMP:20260424T090137
CREATED:20250513T133006Z
LAST-MODIFIED:20250513T133006Z
UID:3282-1749904200-1749918600@guncraftinc.com
SUMMARY:Pistol 101: Accuracy\, Control\, and Confidence with Durand Capers
DESCRIPTION:Pistol 101: Accuracy\, Control\, and Confidence\nDate: 6/14/2025\nTime: 1:00 PM – 4:00 PM\nSkill Level: Beginners & those wanting to refine foundational skills\nPrice: $115\nRegistration Link: https://Lmbgeteducated.as.me/-Pistol101-\nPrevious Students: Use code GEBAE10 for $10 off\nWhat You’ll Learn:\n•	Firearm safety & responsible handling\n•	Fundamentals of accuracy – grip\, stance\, sight alignment\, trigger control\n•	Recoil management & confidence-building drills\n•	Live-fire training to develop consistency\nWhat You’ll Need – Pistol 101:\n•	Great Attitude!\n•	Eye and ear protection\n•	Optional –\no	Firearm (I have rentals available)\n	Contact me about rentals\no	At least 100 rounds of ammunition.\no	The range also sells ammunition\no	Kydex holster or similar stiff material (no pocket holsters or purse holsters\, should holsters)\n	If you do not have a holster\, we can work through that. \nWhat You’ll Need in General:\n•	Range Fee ($30) – Paid directly to Gun Craft upon arrival\n•	Appropriate closed toe shoes or boots (no crocs\, heels\, etc.)\n•	Crew cut shirt “high collar” (no v-neck\, or deep neck cut shirts) – Polo style shirts not preferred unless you are wearing a compression shirt underneath\n•	No Sig Sauer P320 firearms\n•	Note-taking materials\n•	Snacks and Water\n•	Great Attitude!\n•	Eye and ear protection\nContact me with any questions:\n813-944-8959\ndurand@pingpowpat.com
URL:https://guncraftinc.com/event/pistol-101-accuracy-control-and-confidence-with-durand-capers/
END:VEVENT
BEGIN:VEVENT
DTSTART;TZID=UTC:20250614T130000
DTEND;TZID=UTC:20250614T160000
DTSTAMP:20260424T090137
CREATED:20241101T161832Z
LAST-MODIFIED:20241101T161832Z
UID:3091-1749906000-1749916800@guncraftinc.com
SUMMARY:Constitutional Carry/Concealed Weapon License Class
DESCRIPTION:DATE: Saturday September 28\, 2024\nTIME:   1PM – 4PM\nCOST: $60*\nTO REGISTER: Call or email Gun Craft at 813-645-3828 or guncraftinc@live.com\n→ Click HERE to follow us on Facebook ← \n→ Click HERE to follow us on Instagram ← \n*A 50% deposit is required to register for this class. This deposit is non-refundable\, but is transferable to other class offerings if the student needs to cancel. \nDESCRIPTION:\nThis class is designed for those with firearms experience\, or new shooters\, who are looking to apply for their Florida Concealed Weapon License. This class is designed to cover all requirements in Florida Statue 790.06 to allow you to apply for your Florida Concealed Weapon License. There will be approximately 2 hours of class time and up to 1 hour of range time. \nNote: Constitutional Carry does require the same knowledge of the laws and safety\, which this class offers. \nIN THIS CLASS WE WILL COVER: \n\nBasic firearms safety\nMechanics of semi-automatic handguns and revolvers\nHow to safely load and unload firearms\nClearing common malfunctions and stoppages\nShooting fundamentals\nFlorida Gun Laws\nWhere you can and cannot carry\n\nWe provide the firearm and ammunition for this class. You do not need to bring a firearm or ammunition. \nALL STUDENTS WILL NEED: Eye and ear protection during the shooting portion; eye and ear protection are available for purchase at the range if needed. \nWe have bottled water and soda available for purchase at the range\, or you are welcome to bring your own to the class. \nPlease wear range appropriate attire. This includes closed-toed shoes\, shirt to the base of the neck (no low-cut or short-cut shirts)\, shorts or long pants.
URL:https://guncraftinc.com/event/constitutional-carry-concealed-weapon-license-class-40/
LOCATION:Gun Craft\, 2102 24th St. S.E.\, Ruskin\, FL\, 33570\, United States
END:VEVENT
END:VCALENDAR