BEGIN:VCALENDAR
VERSION:2.0
PRODID:-//Gun Craft - ECPv6.15.1.1//NONSGML v1.0//EN
CALSCALE:GREGORIAN
METHOD:PUBLISH
X-WR-CALNAME:Gun Craft
X-ORIGINAL-URL:https://guncraftinc.com
X-WR-CALDESC:Events for Gun Craft
REFRESH-INTERVAL;VALUE=DURATION:PT1H
X-Robots-Tag:noindex
X-PUBLISHED-TTL:PT1H
BEGIN:VTIMEZONE
TZID:UTC
BEGIN:STANDARD
TZOFFSETFROM:+0000
TZOFFSETTO:+0000
TZNAME:UTC
DTSTART:20250101T000000
END:STANDARD
END:VTIMEZONE
BEGIN:VEVENT
DTSTART;TZID=UTC:20250524T170000
DTEND;TZID=UTC:20250524T190000
DTSTAMP:20260424T101954
CREATED:20241213T172919Z
LAST-MODIFIED:20250515T131137Z
UID:3163-1748106000-1748113200@guncraftinc.com
SUMMARY:Monthly Defensive Pistol Drills with Wesley Senn - CANCELLED
DESCRIPTION:Monthly Defensive Pistol Drills \nThese two-hour sessions provide an opportunity to keep your defensive pistol skills sharp. If you carry a gun as part of your normal daily routine\, these drill sessions are for you. Every drill is shot from concealment\, using your everyday carry gear on a dynamic range. \n\nEach session is comprised of very specific pistol drills\, focusing on a particular skill\nA new skill is presented and practiced each month\nSessions have a round count of 50 or less\, so you get maximum training without excessive ammo expenditure.\nSome examples of topics covered are:\n\nMultiple threat scenarios\nShooting at increased speed\nHome defense skills\nShooting from cover\nStrong-hand only and weak-hand only shooting\nShooting and moving\n\n\n\n  \nThis training is reserved for the Intermediate Level shooter. THIS IS NOT A BEGINNER’S COURSE. You must be able to run your gun safely and efficiently without assistance. \nPrerequisite skills required: \nA very high level of safe gun handling\, loading\, unloading\, clearing malfunctions\, and drawing safely from concealment. \n  \nPrice: $80 per session (Includes your range fee and targets) \nSafety Brief starts promptly at 5pm \nNo walk-ins\, reservations are required to attend \nContact Wes at ballisticdynamics@yahoo.com for reservations
URL:https://guncraftinc.com/event/monthly-defensive-pistol-drills-with-wesley-senn-24/
END:VEVENT
END:VCALENDAR