BEGIN:VCALENDAR
VERSION:2.0
PRODID:-//Gun Craft - ECPv6.15.1.1//NONSGML v1.0//EN
CALSCALE:GREGORIAN
METHOD:PUBLISH
X-WR-CALNAME:Gun Craft
X-ORIGINAL-URL:https://guncraftinc.com
X-WR-CALDESC:Events for Gun Craft
REFRESH-INTERVAL;VALUE=DURATION:PT1H
X-Robots-Tag:noindex
X-PUBLISHED-TTL:PT1H
BEGIN:VTIMEZONE
TZID:UTC
BEGIN:STANDARD
TZOFFSETFROM:+0000
TZOFFSETTO:+0000
TZNAME:UTC
DTSTART:20250101T000000
END:STANDARD
END:VTIMEZONE
BEGIN:VEVENT
DTSTART;TZID=UTC:20250517T083000
DTEND;TZID=UTC:20250517T120000
DTSTAMP:20260424T101955
CREATED:20250318T164022Z
LAST-MODIFIED:20250318T164022Z
UID:3250-1747470600-1747483200@guncraftinc.com
SUMMARY:Situational Awareness Workshop with Wes of Ballistic Dynamics
DESCRIPTION:Situational Awareness Workshop\nThis 3-hour class will inform you and equip you with the knowledge you need to see potential threats long before you need to react to them. Personal defense starts well before the need for defensive tactics or lethal force arises. Understanding the importance of a high level of awareness can prevent getting into a negative situation in the first place. Learn how to control your environment and how to react when necessary. This course is just as essential for those who choose NOT to carry a firearm\, as it is for those who do. The workshop culminates in a practical application exercise where students can put what they have learned into action.\nSome topics covered include:\n•	Risk mitigation\n•	Recognizing anomalies\n•	Identifying body language indicators\n•	Awareness in various everyday situations\n•	Responses to potential threats\n•	Much more \nPrice: $60\nNo walk-ins\, reservations are required to attend\nVisit the website to register www.ballistic-consulting.com\nOr contact Wes at ballisticdynamics@yahoo.com for reservations
URL:https://guncraftinc.com/event/situational-awareness-workshop-with-wes-of-ballistic-dynamics/
END:VEVENT
BEGIN:VEVENT
DTSTART;TZID=UTC:20250517T083000
DTEND;TZID=UTC:20250517T170000
DTSTAMP:20260424T101955
CREATED:20250312T125832Z
LAST-MODIFIED:20250510T165716Z
UID:3244-1747470600-1747501200@guncraftinc.com
SUMMARY:Analytical Pistol with Romeo Concepts - cancelled
DESCRIPTION:Analytical Pistol is a course designed to help the student refine the fundamentals of marksmanship. We review the fundamentals\, then we focus on helping the student improve their overall performance by showing them how to shoot sooner rather than faster. This course is not meant for first-time shooters and will be an eight hour training block.\nCourse topics to be covered:\nEfficient types of Draws\nEfficient Presentations\nEstablishing a Repeatable Grip\nSight alignment/sight picture\nConsistent Red Dot Presentations\nDeveloping proper Trigger Manipulation\nEfficient Reloads\nCollecting Data for Performance on Demand\nMovement (exits and entries)\nMinimum requirements / recommendations\nHandgun with at least three magazines\nReliable gun belt (IWB or OWB) with a reliable holster (No Serpa\, Nylon or Leather holsters)\nAt least one magazine holder\nEye protection\nHearing protection\n500 rounds\nReliable tourniquet\nIFAK (recommended)\nNotepad and pen (recommended)\nSunscreen (recommended)\nWater and snacks\nBlack Sharpie\nAppropriate range clothing (shirt\, pants/shorts and closed toe shoes)\nPrice: $250.\nSign up on www.romeoconcepts.com\nFor any questions or concerns\, contact  Rendell Almeria:\nEmail: romeoconceptsllc@gmail.com\nPhone: (954) 540-6961
URL:https://guncraftinc.com/event/analytical-pistol-with-romeo-concepts/
END:VEVENT
BEGIN:VEVENT
DTSTART;TZID=UTC:20250517T090000
DTEND;TZID=UTC:20250517T150000
DTSTAMP:20260424T101955
CREATED:20250502T142007Z
LAST-MODIFIED:20250502T142007Z
UID:3274-1747472400-1747494000@guncraftinc.com
SUMMARY:Pistol 101: Accuracy\, Control\, and Confidence and/or Beyond the Basics: Pistol Progression Level Up
DESCRIPTION:Contact me with any questions: \n813-944-8959 \ndurand@pingpowpat.com \nClass 1: Pistol 101: Accuracy\, Control\, and Confidence Time: 9:00 AM – 12:00 PM Skill Level: Beginners & those wanting to refine foundational skills Price: $145 Registration Link: https://Lmbgeteducated.as.me/Pistol101 Previous Students: Use code GEBAE10 for $10 off \nWhat You’ll Learn: \n· Firearm safety & responsible handling \n· Fundamentals of accuracy – grip\, stance\, sight alignment\, trigger control \n· Recoil management & confidence-building drills \n· Live-fire training to develop consistency \nWhat You’ll Need – Beyond the Basics: \n· Great Attitude! \n· Eye and ear protection \n· Optional – \no Firearm (I have rentals available) \n§ Contact me about rentals \no At least 100 rounds of ammunition. \no The range also sells ammunition \no Kydex holster or similar stiff material (no pocket holsters or purse holsters\, should holsters) \n§ If you do not have a holster\, we can work through that. \nClass 2: Beyond the Basics: Pistol Progression Level Up Time: 12:00 PM – 3:00 PM Skill Level: Beginner\, Intermediate\, & those wanting to refine foundational skills \nPrice: $160 Registration Link: https://Lmbgeteducated.as.me/BeyondBasics Previous Students: Use code GEBAE10 for $10 off \nWhat You’ll Learn: \n· Faster\, more controlled shooting techniques \n· Reloading under time constraints \n· Efficient sight tracking & follow-up shots \n· Improving shot placement & accuracy under stress \n· Understanding shot cadence & balancing speed vs. precision \n· Introduction to drawing from a holster: Proper technique\, safety\, and execution \nWhat You’ll Need – Beyond the Basics: \n· Firearm \n· At least 150 rounds of ammunition \n· The range also sells ammunition \n· Kydex holster or similar stiff material (no pocket holsters or purse holsters\, should holsters) \n· Great Attitude! \n· Eye and ear protection \nBundle Opportunity: Pistol 101 + Beyond the Basics Price $275 (would be $305 separately – $30 Savings) Previous students: use code LMB15 for an additional $15 off price (up to $45 worth of savings). Registration Link: https://app.acuityscheduling.com/catalog.php?owner=32662213&action=addCart&id=1934454&clear=1 \nPistol 101 and Beyond the Basics can be taken as separate classes. However\, if you are interested in both\, you can register for both as a combination and save $30 off the package. Previous students should also use code LMB15 for an additional $15 off the package for up to $45 worth of savings. Link at bottom. \nIf you are unable to stay for both\, but want the package\, you can attend a future class.
URL:https://guncraftinc.com/event/pistol-101-accuracy-control-and-confidence-and-or-beyond-the-basics-pistol-progression-level-up/
END:VEVENT
BEGIN:VEVENT
DTSTART;TZID=UTC:20250517T130000
DTEND;TZID=UTC:20250517T160000
DTSTAMP:20260424T101955
CREATED:20241101T161753Z
LAST-MODIFIED:20241101T161753Z
UID:3092-1747486800-1747497600@guncraftinc.com
SUMMARY:Constitutional Carry/Concealed Weapon License Class
DESCRIPTION:DATE: Saturday September 28\, 2024\nTIME:   1PM – 4PM\nCOST: $60*\nTO REGISTER: Call or email Gun Craft at 813-645-3828 or guncraftinc@live.com\n→ Click HERE to follow us on Facebook ← \n→ Click HERE to follow us on Instagram ← \n*A 50% deposit is required to register for this class. This deposit is non-refundable\, but is transferable to other class offerings if the student needs to cancel. \nDESCRIPTION:\nThis class is designed for those with firearms experience\, or new shooters\, who are looking to apply for their Florida Concealed Weapon License. This class is designed to cover all requirements in Florida Statue 790.06 to allow you to apply for your Florida Concealed Weapon License. There will be approximately 2 hours of class time and up to 1 hour of range time. \nNote: Constitutional Carry does require the same knowledge of the laws and safety\, which this class offers. \nIN THIS CLASS WE WILL COVER: \n\nBasic firearms safety\nMechanics of semi-automatic handguns and revolvers\nHow to safely load and unload firearms\nClearing common malfunctions and stoppages\nShooting fundamentals\nFlorida Gun Laws\nWhere you can and cannot carry\n\nWe provide the firearm and ammunition for this class. You do not need to bring a firearm or ammunition. \nALL STUDENTS WILL NEED: Eye and ear protection during the shooting portion; eye and ear protection are available for purchase at the range if needed. \nWe have bottled water and soda available for purchase at the range\, or you are welcome to bring your own to the class. \nPlease wear range appropriate attire. This includes closed-toed shoes\, shirt to the base of the neck (no low-cut or short-cut shirts)\, shorts or long pants.
URL:https://guncraftinc.com/event/constitutional-carry-concealed-weapon-license-class-39/
LOCATION:Gun Craft\, 2102 24th St. S.E.\, Ruskin\, FL\, 33570\, United States
END:VEVENT
END:VCALENDAR