BEGIN:VCALENDAR
VERSION:2.0
PRODID:-//Gun Craft - ECPv6.15.1.1//NONSGML v1.0//EN
CALSCALE:GREGORIAN
METHOD:PUBLISH
X-WR-CALNAME:Gun Craft
X-ORIGINAL-URL:https://guncraftinc.com
X-WR-CALDESC:Events for Gun Craft
REFRESH-INTERVAL;VALUE=DURATION:PT1H
X-Robots-Tag:noindex
X-PUBLISHED-TTL:PT1H
BEGIN:VTIMEZONE
TZID:UTC
BEGIN:STANDARD
TZOFFSETFROM:+0000
TZOFFSETTO:+0000
TZNAME:UTC
DTSTART:20250101T000000
END:STANDARD
END:VTIMEZONE
BEGIN:VEVENT
DTSTART;TZID=UTC:20250426T083000
DTEND;TZID=UTC:20250426T113000
DTSTAMP:20260424T115432
CREATED:20250402T133004Z
LAST-MODIFIED:20250402T133004Z
UID:3255-1745656200-1745667000@guncraftinc.com
SUMMARY:Intro to Defensive Pistol with Durand Capers
DESCRIPTION:Intro to Defensive Pistol  \nBring Your Concealed Carry Set Up \nA premier introduction course designed to prepare you for real-life scenarios with confidence and skill. Under the guidance of a seasoned instructor\, you will not only master the art of carrying a firearm but also learn to harness the power of defensive shooting. Every session is a fresh experience\, ensuring that no two classes are alike\, and providing an ever-evolving learning environment tailored to the needs and progress of each student. \nCourse Highlights:  \nComprehensive Defensive Shooting Application:  \nAdaptive scenarios addressing multiple assailant engagements.\nTechniques to boost shooting speed while maintaining accuracy.\nUnderstanding Front Sight Focus\, Target Focus\, and Point Shooting.\nShoot/Don’t Shoot Situations.\nEffective utilization of cover in defensive scenarios.\nMastery in handling firearms with both strong and support hands.\nTechniques for seamlessly integrating movement with firing accuracy.\nPrecision drills to enhance situational awareness and decision-making under pressure.\nAdvanced reloading techniques under time constraints for improved field readiness.\nDeveloping consistent accuracy with varying shooting stances and conditions.\nThis is more than a course—it’s an essential journey to becoming a more adept\, confident\, and responsible firearm owner and operator in today’s world. Embrace the variability\, and prepare to be surprised by how much you can learn and grow with each new class. Whether you’re a novice looking to start on solid ground or an experienced shooter aiming to refine your skills\, this course is your gateway to a new level of defensive preparedness and empowerment. Each class is an opportunity to grow\, challenge yourself\, and engage with firearm safety and handling in new and insightful ways. \nWith the philosophy of “Get Educated By An Educator\,” our course goes beyond traditional defensive pistol training.  \nStudents use either to register.\nhttps://www.usconcealedcarry.com/firearms-training/instructors/florida-instructors/tactical-education-defense-llc-2492362/class-ruskin-fl-concealed-carry-essentials-defensive-pistol-skills-tactics-d988f/\nOr  \nhttps://lmbgeteducated.as.me/schedule/5dbc8e9c/category/Shooting%2520Courses%2520(Pistol%2520101%252C%2520Concealed%2520Carry%252C%2520and%2520more!)?categories%5B%5D=Self-Defense+Shooting+Courses+%28concealed+carry+and+beyond%29 \n“Price – $160 (+ Range Fee)\nRange fee is paid by students when you arrive
URL:https://guncraftinc.com/event/intro-to-defensive-pistol-with-durand-capers/
END:VEVENT
BEGIN:VEVENT
DTSTART;TZID=UTC:20250426T083000
DTEND;TZID=UTC:20250426T170000
DTSTAMP:20260424T115432
CREATED:20250228T172705Z
LAST-MODIFIED:20250228T174901Z
UID:3240-1745656200-1745686800@guncraftinc.com
SUMMARY:Danger Close  - Homeowner CQB with Bert Winfield
DESCRIPTION:DANGER CLOSE – HOMEOWNER CQB \nThis class is specifically designed for Home Defense room clearing. Clearing your own home in the event of an intruder or multiple intruders is an art form all in itself and there are a great many misconceptions out there about room clearing and how to do it properly. Come join me for this class as we get in depth on how to maximize your effectiveness should the need arise that you need to maneuver through your home during a potentially violent encounter. \nClass is designed for Home Defense Rifle and Home Defense Handgun. We will be working on the specific techniques required to use either firearm. \n***SAFETY NOTE*** – This is NOT a beginners class. You will be shooting and moving from compressed positions\, through doorways and around walls. Firearm Safety is PARAMOUNT!!! \nTuition is $300.00 \nInquire about Couples discount to Bert@homedefensetraining.com \nRange Fees must be paid directly to Gun Craft upon arrival and check-in. \nSafety Briefing is 8:45am \nFreedom seeds start flying at 9:00am \nTraining will include: \n\nWhat single person CQB is and isn’t\nWhen to clear your home and why\nProper use of cover and concealment\nDefensive firearm setup considerations\nCompressed position defensive shooting\nAnd many more\n\nRequired Equipment: \n\nRifle that you use for Home Defense\nPistol that you use for Home Defense\n1 spare pistol magazine and 1 spare rifle magazine\nMagazine pouches are helpful though not necessary.\nHolster that retains its shape when the pistol is removed. NO SERPA STYLE HOLSTERS ARE PERMITTED!!!\nRifle Sling. NO HUNTING SLINGS!!!\nAmmo\, 300 rounds for Rifle and 300 rounds for Pistol. More is always better.\nDrinks \,Snacks and Lunch\nBaseball Cap\nEye and Ear Protection\nTactical Belt or Concealed Carry is entirely up to you.\nYou can take this class in full kit if you have it.\nEnclosed shoes (No flip flops\, sandals or open toe shoes)\nCrew neck (T-shirt) or button up shirt (No low-cut neckline or tank tops)\nShorts are permitted\, just keep in mind that you will be kneeling at times.\n\nRecommended Equipment: \n\nGloves\nSun Block\nHand Towel\n\nCANCELLATIONS AND REFUNDS: Eventbrite fees are non-refundable. In the event Home Defense Solutions cancels a class\, a refund of the class tuition (NOT INCLUDING EVENTBRITE FEES) will be returned to the student\, or the student will have the option to reschedule. NO REFUNDS if the student cancels within 72 hours of the class. Students can reschedule. \nEventbrite Link: https://www.eventbrite.com/e/danger-close-homeowner-cqb-tickets-1264142326729?aff=oddtdtcreator
URL:https://guncraftinc.com/event/danger-close-homeowner-cqb-with-bert-winfield-4/
END:VEVENT
BEGIN:VEVENT
DTSTART;TZID=UTC:20250426T170000
DTEND;TZID=UTC:20250426T190000
DTSTAMP:20260424T115432
CREATED:20241213T172723Z
LAST-MODIFIED:20250122T140552Z
UID:3161-1745686800-1745694000@guncraftinc.com
SUMMARY:Monthly Defensive Pistol Drills with Wesley Senn
DESCRIPTION:Monthly Defensive Pistol Drills \nThese two-hour sessions provide an opportunity to keep your defensive pistol skills sharp. If you carry a gun as part of your normal daily routine\, these drill sessions are for you. Every drill is shot from concealment\, using your everyday carry gear on a dynamic range. \n\nEach session is comprised of very specific pistol drills\, focusing on a particular skill\nA new skill is presented and practiced each month\nSessions have a round count of 50 or less\, so you get maximum training without excessive ammo expenditure.\nSome examples of topics covered are:\n\nMultiple threat scenarios\nShooting at increased speed\nHome defense skills\nShooting from cover\nStrong-hand only and weak-hand only shooting\nShooting and moving\n\n\n\n  \nThis training is reserved for the Intermediate Level shooter. THIS IS NOT A BEGINNER’S COURSE. You must be able to run your gun safely and efficiently without assistance. \nPrerequisite skills required: \nA very high level of safe gun handling\, loading\, unloading\, clearing malfunctions\, and drawing safely from concealment. \n  \nPrice: $80 per session (Includes your range fee and targets) \nSafety Brief starts promptly at 5pm \nNo walk-ins\, reservations are required to attend \nContact Wes at ballisticdynamics@yahoo.com for reservations
URL:https://guncraftinc.com/event/monthly-defensive-pistol-drills-with-wesley-senn-23/
END:VEVENT
END:VCALENDAR