BEGIN:VCALENDAR
VERSION:2.0
PRODID:-//Gun Craft - ECPv6.15.1.1//NONSGML v1.0//EN
CALSCALE:GREGORIAN
METHOD:PUBLISH
X-WR-CALNAME:Gun Craft
X-ORIGINAL-URL:https://guncraftinc.com
X-WR-CALDESC:Events for Gun Craft
REFRESH-INTERVAL;VALUE=DURATION:PT1H
X-Robots-Tag:noindex
X-PUBLISHED-TTL:PT1H
BEGIN:VTIMEZONE
TZID:UTC
BEGIN:STANDARD
TZOFFSETFROM:+0000
TZOFFSETTO:+0000
TZNAME:UTC
DTSTART:20250101T000000
END:STANDARD
END:VTIMEZONE
BEGIN:VEVENT
DTSTART;TZID=UTC:20250412T120000
DTEND;TZID=UTC:20250412T160000
DTSTAMP:20260424T115432
CREATED:20250402T152106Z
LAST-MODIFIED:20250402T152106Z
UID:3257-1744459200-1744473600@guncraftinc.com
SUMMARY:Marksmanship & Basic Pistol with Durand Capers
DESCRIPTION:Marksmanship and Basic Pistol  \nPrice $115 (+ Range Fee)\nRange fee is paid by students when you arrive \nThis course is designed to accommodate students throughout the full continuum of firearm experience. Maybe you are brand new to handguns\, maybe you have your CCW and you are not completely comfortable with a firearm\, maybe you just want to brush up on your skill level. This course is perfect for you if you are anywhere in between. It is not uncommon for a student to take a Basic Pistol course before their CCW.  \nSkill Level: Beginners & those wanting to refine foundational skills \nWhat You’ll Learn: Firearm safety & responsible handling Fundamentals of accuracy – grip\, stance\, sight alignment\, trigger control Recoil management & confidence-building drills Live-fire training to develop consistency \nReach out if you have questions: \n813-944-8959 \nDurand@pingpowpat.com \nStudents Register here (contact me for package deals)\nhttps://www.usconcealedcarry.com/firearms-training/instructors/florida-instructors/tactical-education-defense-llc-2492362/class-tampa-fl-pistol-101-accuracy-control-and-confidence-2d7d6/ \nOr  \nhttps://lmbgeteducated.as.me/schedule/5dbc8e9c/category/Shooting%2520Courses%2520(Pistol%2520101%252C%2520Concealed%2520Carry%252C%2520and%2520more!)?categories%5B%5D=Self-Defense+Shooting+Courses+%28concealed+carry+and+beyond%29
URL:https://guncraftinc.com/event/marksmanship-basic-pistol-with-durand-capers/
END:VEVENT
END:VCALENDAR